BEGIN:VCALENDAR
VERSION:2.0
PRODID:-//wp-events-plugin.com//7.2.3.1//EN
TZID:Europe/Berlin
X-WR-TIMEZONE:Europe/Berlin
BEGIN:VEVENT
UID:4885@lilabi.net
DTSTART;TZID=Europe/Berlin:20231125T160000
DTEND;TZID=Europe/Berlin:20231125T164500
DTSTAMP:20231120T232327Z
URL:https://www.lilabi.net/events/feminizide-stoppen/
SUMMARY:Feminizide stoppen
DESCRIPTION:Am 25.11. ist internationaler Tag gegen patriarchale Gewalt! \n
 Aus den Protesten der feministischen „Ni Una Menos“ („Nicht eine wen
 iger“) Bewegung\, die 2015 in Argentinien erstmals auf die Straße ging\
 , entwickelten sich transnationale soziale Bewegungen\, die laut werden be
 i patriarchaler Gewalt und Feminiziden. \n\nFeminizide\, also Tötungen un
 d Morde an Lebenspartner*innen\, Verwandten\, Bekannten oder unbekannten P
 ersonen aufgrund ihres als weiblich gelesenen Geschlechts\, sind weder "Be
 ziehungsdramen" noch "Verbrechen aus Leidenschaft"!\n\nBei patriarchaler G
 ewalt\, die sich von Catcalling und Beleidigungen\, über häusliche Gewal
 t bis hin zu Feminiziden erstreckt\, handelt es sich weder um "Einzelfäll
 e" noch um private Probleme\, denn solche Machtverhältnisse finden auf al
 len Ebenen gesellschaftlichen Zusammenlebens statt und treffen FLINTA. Men
 schen\, die darüber hinaus Diskriminierung wie Rassismus und Ableismus er
 fahren haben ein verstärktes Risiko von patriarchaler Gewalt betroffen zu
  sein.\n\nDie Verharmlosung bis hin zur Ignoranz seitens Staates\, Politik
  und Justiz haben Straflosigkeit und Normalisierung von patriarchaler Gewa
 lt zur Folge. Dies endet für viele Betroffene fatal. Patriarchale Gewalt 
 ist ein globales Problem\, welches sich durch alle Gesellschaften zieht un
 d nach wie vor\, trotz erschütternder Zahlen\, viel zu wenig Aufmerksamke
 it und Konsequenzen erfährt. \n\nWir wollen aufmerksam machen: \nAuf patr
 iarchale und geschlechterspezifische Gewalt!\nAuf Feminizide als dessen sc
 hlimmstes Ausmaß!\nUnd auf die Verstrickungen zwischen Patriarchat und Ka
 pitalismus!\n\nWir können eine Gesellschaft nicht hinnehmen\, in der mehr
  als jede dritte FLINTA mindestens einmal in ihrem Leben von körperlicher
  und/oder sexualisierter Gewalt betroffen ist! \nWir können es nicht akze
 ptieren\, dass in dieser Welt alle 12 Minuten eine Frau von einer ihr nahe
 stehenden Person ermordet wird\, weil sie eine Frau ist!\nUnd wir können 
 es nicht hinnehmen\, wenn dies ignoriert\, mitgetragen und als "Einzelfäl
 le" verharmlost wird!\n\nLasst uns gemeinsam auf die Straße gehen!\nSolid
 arisch gegen Patriarchat und Kapitalismus!
ATTACH;FMTTYPE=image/jpeg:https://www.lilabi.net/wp-content/uploads/2023/1
 1/Feminizide-stoppen-Kundgebung-2023.jpg
CATEGORIES:Kundgebung
LOCATION:Rathaus Bielefeld\, Niederwall 27\, Bielefeld\, 33602\, Deutschlan
 d
X-APPLE-STRUCTURED-LOCATION;VALUE=URI;X-ADDRESS=Niederwall 27\, Bielefeld\,
  33602\, Deutschland;X-APPLE-RADIUS=100;X-TITLE=Rathaus Bielefeld:geo:0,0
END:VEVENT
BEGIN:VTIMEZONE
TZID:Europe/Berlin
X-LIC-LOCATION:Europe/Berlin
BEGIN:STANDARD
DTSTART:20231029T020000
TZOFFSETFROM:+0200
TZOFFSETTO:+0100
TZNAME:CET
END:STANDARD
END:VTIMEZONE
END:VCALENDAR