BEGIN:VCALENDAR
VERSION:2.0
PRODID:-//wp-events-plugin.com//7.2.3.1//EN
TZID:Europe/Berlin
X-WR-TIMEZONE:Europe/Berlin
BEGIN:VEVENT
UID:3558@lilabi.net
DTSTART;TZID=Europe/Berlin:20210912T130000
DTEND;TZID=Europe/Berlin:20210912T180000
DTSTAMP:20210907T164628Z
URL:https://www.lilabi.net/events/feministisches-meet-greet-mit-dem-femref
 /
SUMMARY:Feministisches Meet &amp\; Greet mit dem Fem*Ref
DESCRIPTION:FEMINISTISCHES MEET &amp\; GREET\nmit dem Fem*Ref Bielefeld\nWa
 nn? 12.09.2021 ab 13:00 Uhr\nWo? BürgiPark (obere Häfte/Wertherstraße)\
 nFLINTA* only\n\nD I Y - P i c k n i c k\nBring eigene vegane Snacks für 
 Alle mit! Wir stellen nen Kasten Limo und ein paar Snacks. Bringt eure eig
 enen Decken\, Teller und Ko. mit\n\nQ U A T S C H E N U N D K E N N E N L 
 E R N E N\n\nS P I E L E S P I E L E N\nWir haben alle möglichen Spiele a
 m Start\, wie ein Mösen-Memory\, Spiel gegen die Polizei\, Demospruch-Mem
 ory\, feministische Spiele und Standartspiele wie Uno\, Codenames\, etc. E
 igene Spiele können gerne mitgebracht werden.\n\nWeil wir einen sicheren 
 Ort für möglichst Alle haben wollen: Macht bitte davor einen Test (auch 
 wenn ihr geimpft oder genesen seid)\, achtet auf Abstände und Ko.\n\nBei 
 schlechtem Wetter wird das Ganze verschoben.
CATEGORIES:Austausch/Vernetzung
END:VEVENT
BEGIN:VTIMEZONE
TZID:Europe/Berlin
X-LIC-LOCATION:Europe/Berlin
BEGIN:DAYLIGHT
DTSTART:20210328T030000
TZOFFSETFROM:+0100
TZOFFSETTO:+0200
TZNAME:CEST
END:DAYLIGHT
END:VTIMEZONE
END:VCALENDAR