BEGIN:VCALENDAR
VERSION:2.0
PRODID:-//wp-events-plugin.com//7.2.3.1//EN
TZID:Europe/Berlin
X-WR-TIMEZONE:Europe/Berlin
BEGIN:VEVENT
UID:5640@lilabi.net
DTSTART;TZID=Europe/Berlin:20240623T150000
DTEND;TZID=Europe/Berlin:20240623T180000
DTSTAMP:20240429T110800Z
URL:https://www.lilabi.net/events/feministisches-kaffeekraenzchen/
SUMMARY:Feministisches Kaffeekränzchen
DESCRIPTION:Du hast Bock auf mehr feministische Räume? \nWir auch!\nDesweg
 en möchten wir gemeinsam mit euch einen Raum gestalten\, in dem wir quats
 chen und über Feminismus diskutieren\, Ideen sammeln und entstehen lassen
 \, uns erholen\, neue Menschen kennen lernen\, chillen und natürlich Kaff
 ee oder Tee trinken können!\n\nBringt gerne euren Lieblingssnack mit!\n\n
 FLINTA* allen Alters sind willkommen\, auch gerne mit Kids.\n\nWir freuen 
 uns auf euch!\n\n*Mit FLINTA* sind Frauen\, lesbische\, inter*\, nicht-bin
 äre\, trans* und agender* Personen gemeint
CATEGORIES:Austausch/Vernetzung
LOCATION:Jugendzentrum Kamp\, Niedermühlenkamp 43\, 33604 Bielefeld\, Deut
 schland
X-APPLE-STRUCTURED-LOCATION;VALUE=URI;X-ADDRESS=Niedermühlenkamp 43\, 3360
 4 Bielefeld\, Deutschland;X-APPLE-RADIUS=100;X-TITLE=Jugendzentrum Kamp:ge
 o:0,0
END:VEVENT
BEGIN:VTIMEZONE
TZID:Europe/Berlin
X-LIC-LOCATION:Europe/Berlin
BEGIN:DAYLIGHT
DTSTART:20240331T030000
TZOFFSETFROM:+0100
TZOFFSETTO:+0200
TZNAME:CEST
END:DAYLIGHT
END:VTIMEZONE
END:VCALENDAR