BEGIN:VCALENDAR
VERSION:2.0
PRODID:-//wp-events-plugin.com//7.2.3.1//EN
TZID:Europe/Berlin
X-WR-TIMEZONE:Europe/Berlin
BEGIN:VEVENT
UID:4469@lilabi.net
DTSTART;TZID=Europe/Berlin:20221123T190000
DTEND;TZID=Europe/Berlin:20221123T210000
DTSTAMP:20221122T223525Z
URL:https://www.lilabi.net/events/feministische-utopien-ueber-den-fussball
 /
SUMMARY:Feministische Utopien über den Fussball
DESCRIPTION:Eine höchst erfolgreiche EM der Frauen im Sommer in England\, 
 eine höchst umstrittene WM der Männer im Winter in Katar\, dazu lang ers
 ehnte Millionendeals und Profiligen für Frauen: Alles scheint bereit für
  eine endlich rosige Zukunft für den sogenannten Frauenfußball. Zumal mi
 t der WM in Australien und Neuseeland das nächste Turnier mit Wachstumsch
 ancen gleich vor der Tür steht. Ein wenig Bauchschmerzen bereitet es frei
 lich doch einigen\, dass unhinterfragt der krisengeschüttelte und überbl
 ähte Fußball der Männer kopiert wird. Welche neuen Wege gibt es? Die Sp
 ortjournalistin und Autorin Alina Schwermer hat in ihrem aktuellen Buch "F
 utopia"\, nominiert zum Fußballbuch des Jahres\, Perspektiven für einen 
 Ausstieg aus dem aktuellen Wirtschaften und Konzepte für einen ethischen\
 , kreativen\, nachhaltigen Fußball entworfen. Gerade aus der feministisch
 en Bewegung heraus gibt es viele Ideen\, wie Fußball ein Fußball des 21.
  Jahrhunderts\, ein Spiel von allen für alle werden kann. Bei der Veranst
 altung "Feministische Utopien für den Fußball" stellt sie einige davon v
 or und liest aus "Futopia" mit anschließender Diskussion.\n\nEine Veranst
 altung der Antinationalen Linken Bielefeld [ALIBI] im Rahmen der Veranstal
 tungsreihe "Boykott Katar".
ATTACH;FMTTYPE=image/jpeg:https://www.lilabi.net/wp-content/uploads/2022/1
 1/layoutfinal.jpg
CATEGORIES:Vortrag
LOCATION:Nr. z. P.\, Große Kurfürstenstraße 81\, Bielefeld\, Deutschland
X-APPLE-STRUCTURED-LOCATION;VALUE=URI;X-ADDRESS=Große Kurfürstenstraße 8
 1\, Bielefeld\, Deutschland;X-APPLE-RADIUS=100;X-TITLE=Nr. z. P.:geo:0,0
END:VEVENT
BEGIN:VTIMEZONE
TZID:Europe/Berlin
X-LIC-LOCATION:Europe/Berlin
BEGIN:STANDARD
DTSTART:20221030T020000
TZOFFSETFROM:+0200
TZOFFSETTO:+0100
TZNAME:CET
END:STANDARD
END:VTIMEZONE
END:VCALENDAR