BEGIN:VCALENDAR
VERSION:2.0
PRODID:-//wp-events-plugin.com//7.2.3.1//EN
TZID:Europe/Berlin
X-WR-TIMEZONE:Europe/Berlin
BEGIN:VEVENT
UID:3706@lilabi.net
DTSTART;TZID=Europe/Berlin:20220427T150000
DTEND;TZID=Europe/Berlin:20220427T170000
DTSTAMP:20220419T124413Z
URL:https://www.lilabi.net/events/feminismus-kaffee/
SUMMARY:Feminismus &amp\; Kaffee
DESCRIPTION:Feminismus &amp\; Kaffee\n\n27.04 // 15:00 - 17:00 Uhr // Wiese
  vor der Uni // Fem*Ref\n\nDas Fem*Ref lädt euch zu einen kleinen feminis
 tischen Meet and Greet ein. Bei Snacks und Kaffee könnt ihr uns und femin
 istische Strukturen an der Uni kennenlernen\, Gesellschaftsspiele spielen 
 und euch einfach so ein bisschen untereinander connecten. Wir freuen uns a
 uf euch! FLINTA* only! Kommt bitte mit einem aktuellen Schnelltest (auch w
 enn ihr geimpft/genesen seid). Wir haben auch Tests da.
CATEGORIES:Semesterstart
LOCATION:Universität\, Universitätsstraße 25\, Bielefeld\, Deutschland
X-APPLE-STRUCTURED-LOCATION;VALUE=URI;X-ADDRESS=Universitätsstraße 25\, B
 ielefeld\, Deutschland;X-APPLE-RADIUS=100;X-TITLE=Universität:geo:0,0
END:VEVENT
BEGIN:VTIMEZONE
TZID:Europe/Berlin
X-LIC-LOCATION:Europe/Berlin
BEGIN:DAYLIGHT
DTSTART:20220327T030000
TZOFFSETFROM:+0100
TZOFFSETTO:+0200
TZNAME:CEST
END:DAYLIGHT
END:VTIMEZONE
END:VCALENDAR