BEGIN:VCALENDAR
VERSION:2.0
PRODID:-//wp-events-plugin.com//7.2.3.1//EN
TZID:Europe/Berlin
X-WR-TIMEZONE:Europe/Berlin
BEGIN:VEVENT
UID:4717@lilabi.net
DTSTART;TZID=Europe/Berlin:20230523T170000
DTEND;TZID=Europe/Berlin:20230523T190000
DTSTAMP:20230404T123729Z
URL:https://www.lilabi.net/events/feierabendspaziergang-auf-dem-global-goa
 ls-weg-teilstrecke/
SUMMARY:Feierabendspaziergang auf dem Global Goals Weg (Teilstrecke)
DESCRIPTION:Dienstag\, 23.05.23\, 17-19 Uhr\, Finanzamt\, Ravensbergerstra
 ße 90\n\nAuf dem Global Goals Weg rund um das Bielefelder Stadtgebiet lad
 en verschiedene Lernstationen dazu ein\, zu verweilen und zu entdecken\, w
 as sich hinter den globalen Nachhaltigkeitszielen (Sustainable Development
  Goals\, SDGs) verbirgt\, die von allen Ländern der Welt bis 2030 erreich
 t werden sollen. Die Tour findet in Kooperation mit der VHS Bielefeld stat
 t. Gemeinsam mit einem speziell dafür ausgebildeten Tourguide des Welthau
 ses startet Ihr geführter ca. 3 km lange Spaziergang am Finanzamt Mitte u
 nd endet an den Heeper Fichten. Sie können mit einer Dauer von circa 2 St
 unden rechnen. Kommen Sie mit uns ins Gespräch über die Nachhaltigkeitsz
 iele Armut\, Bildung und Frieden und genießen Sie unseren gemeinsamen "Fe
 ierabend"-Spaziergang. Den Routenverlauf finden Sie unter: global-goals-ra
 dweg.de/gefuehrte-touren/\n\nTreffpunkt: Finanzamt\, Ravensbergerstraße\n
 Ende: Heeper Fichten (Station Frieden)\nStationen: Armut\, Bildung\, Fried
 en\n\nAnmeldung bitte über die VHS unter www.vhs-bielefeld.de
ATTACH;FMTTYPE=image/jpeg:https://www.lilabi.net/wp-content/uploads/2023/0
 4/IMG_20220814_154727.jpg
CATEGORIES:Führung/Rundgang
LOCATION:Finanzamt\, Finanzamt\, Ravensbergerstraße 90\, 33602 Bielefeld\,
  Deutschland
X-APPLE-STRUCTURED-LOCATION;VALUE=URI;X-ADDRESS=Finanzamt\, Ravensbergerstr
 aße 90\, 33602 Bielefeld\, Deutschland;X-APPLE-RADIUS=100;X-TITLE=Finanza
 mt:geo:0,0
END:VEVENT
BEGIN:VTIMEZONE
TZID:Europe/Berlin
X-LIC-LOCATION:Europe/Berlin
BEGIN:DAYLIGHT
DTSTART:20230326T030000
TZOFFSETFROM:+0100
TZOFFSETTO:+0200
TZNAME:CEST
END:DAYLIGHT
END:VTIMEZONE
END:VCALENDAR