BEGIN:VCALENDAR
VERSION:2.0
PRODID:-//wp-events-plugin.com//7.2.3.1//EN
TZID:Europe/Berlin
X-WR-TIMEZONE:Europe/Berlin
BEGIN:VEVENT
UID:4735@lilabi.net
DTSTART;TZID=Europe/Berlin:20230613T170000
DTEND;TZID=Europe/Berlin:20230613T190000
DTSTAMP:20230509T112351Z
URL:https://www.lilabi.net/events/feierabendspaziergang-auf-dem-global-goa
 ls-weg-teilstrecke-2/
SUMMARY:Feierabendspaziergang auf dem Global Goals Weg (Teilstrecke)
DESCRIPTION:Auf dem Global Goals Weg rund um das Bielefelder Stadtgebiet la
 den verschiedene Lernstationen dazu ein\, zu verweilen und zu entdecken\, 
 was sich hinter den globalen Nachhaltigkeitszielen (Sustainable Developmen
 t Goals\, SDGs) verbirgt\, die von allen Ländern der Welt bis 2030 erreic
 ht werden sollen. Die Tour findet in Kooperation mit der VHS Bielefeld sta
 tt. Gemeinsam mit einem speziell dafür ausgebildeten Tourguide des Weltha
 uses startet Ihr geführter ca. 3 km lange Spaziergang an der Straßenbahn
 -Haltestelle Rudolf-Oetker-Halle und endet in der Grünanlage Bultkamp (in
  der Nähe der Straße "Am Feuerholz"). Sie können mit einer Dauer von ci
 rca 2 Stunden rechnen. Kommen Sie mit uns ins Gespräch über die Nachhalt
 igkeitsziele Armut\, Bildung und Frieden und genießen Sie unseren gemeins
 amen "Feierabend"-Spaziergang. Den Routenverlauf finden Sie unter: global-
 goals-radweg.de/gefuehrte-touren/\n\n&nbsp\;\n\nTreffpunkt: Straßenbahnha
 ltestelle „Rudolf-Oetker-Halle“\n\nEnde: Bultkamp\, Wasserstation\n\n&
 nbsp\;\n\nStationen: Ungleichheit\, Gender\, Wasser\n\n&nbsp\;\n\nAnmeldun
 g bitte über die VHS unter www.vhs-bielefeld.de
ATTACH;FMTTYPE=image/jpeg:https://www.lilabi.net/wp-content/uploads/2023/0
 5/DSC_0239-Kopie.jpg
CATEGORIES:Führung/Rundgang
LOCATION:Straßenbahnhaltestelle „Rudolf-Oetker-Halle“\, Bielefeld\, St
 raßenbahnhaltestelle „Rudolf-Oetker-Halle“ Bielefeld\, 33602 Bielefel
 d\, NRW\, Deutschland
X-APPLE-STRUCTURED-LOCATION;VALUE=URI;X-ADDRESS=Straßenbahnhaltestelle „
 Rudolf-Oetker-Halle“ Bielefeld\, 33602 Bielefeld\, NRW\, Deutschland;X-A
 PPLE-RADIUS=100;X-TITLE=Straßenbahnhaltestelle „Rudolf-Oetker-Halle“\
 , Bielefeld:geo:0,0
END:VEVENT
BEGIN:VTIMEZONE
TZID:Europe/Berlin
X-LIC-LOCATION:Europe/Berlin
BEGIN:DAYLIGHT
DTSTART:20230326T030000
TZOFFSETFROM:+0100
TZOFFSETTO:+0200
TZNAME:CEST
END:DAYLIGHT
END:VTIMEZONE
END:VCALENDAR