BEGIN:VCALENDAR
VERSION:2.0
PRODID:-//wp-events-plugin.com//7.2.3.1//EN
TZID:Europe/Berlin
X-WR-TIMEZONE:Europe/Berlin
BEGIN:VEVENT
UID:4305@lilabi.net
DTSTART;TZID=Europe/Berlin:20220708T200000
DTEND;TZID=Europe/Berlin:20220709T020000
DTSTAMP:20220626T130704Z
URL:https://www.lilabi.net/events/fau-kneipe-punk-reggae-ska/
SUMMARY:FAU-Kneipe (Punk\, Reggae\, Ska)
DESCRIPTION:An jedem 2. Freitag des Monats lädt die FAU Bielefeld ab 20 Uh
 r ein zur FAU-Kneipe. Musik\, Austausch und Kaltgetränke in geselliger Ru
 nde – dem Stress auf Arbeit\, Schule\, Amt gemeinsam entgegentreten… V
 ielleicht auch über den Kneipenabend hinaus?\n\nAm 08.07. gibt es eine bu
 nte Mischung aus Punk\, Reggae &amp\; Ska - Songs gegen Rassismus\, Kapita
 lismus und den Staat.\n\nWeitere Informationen: bielefeld.fau.org/veransta
 ltungen
ATTACH;FMTTYPE=image/jpeg:https://www.lilabi.net/wp-content/uploads/2022/0
 6/FAU_Kneipe02_Vorderseite_Lilabi.png
CATEGORIES:Kneipe
LOCATION:FAU-Lokal\, Metzer Straße 20\, Bielefeld\, Deutschland
X-APPLE-STRUCTURED-LOCATION;VALUE=URI;X-ADDRESS=Metzer Straße 20\, Bielefe
 ld\, Deutschland;X-APPLE-RADIUS=100;X-TITLE=FAU-Lokal:geo:0,0
END:VEVENT
BEGIN:VTIMEZONE
TZID:Europe/Berlin
X-LIC-LOCATION:Europe/Berlin
BEGIN:DAYLIGHT
DTSTART:20220327T030000
TZOFFSETFROM:+0100
TZOFFSETTO:+0200
TZNAME:CEST
END:DAYLIGHT
END:VTIMEZONE
END:VCALENDAR