BEGIN:VCALENDAR
VERSION:2.0
PRODID:-//wp-events-plugin.com//7.2.3.1//EN
TZID:Europe/Berlin
X-WR-TIMEZONE:Europe/Berlin
BEGIN:VEVENT
UID:4496@lilabi.net
DTSTART;TZID=Europe/Berlin:20230113T200000
DTEND;TZID=Europe/Berlin:20230113T234500
DTSTAMP:20230104T145815Z
URL:https://www.lilabi.net/events/fau-kneipe-metal/
SUMMARY:FAU Kneipe: Metal
DESCRIPTION:An jedem 2. Freitag des Monats lädt die FAU Bielefeld ab 20 Uh
 r ein zur FAU-Kneipe. Musik\, Austausch und Kaltgetränke in geselliger Ru
 nde – dem Stress auf Arbeit\, Schule\, Amt gemeinsam entgegentreten… V
 ielleicht auch über den Kneipenabend hinaus?\n\nUnseren anarcho-syndikali
 stischen Idealen entsprechend sind Eintritt\, Getränke – wir bieten Lim
 o und Bier – und Knabberkram gratis\, über Spenden würden wir uns aber
  freuen\, um solche Veranstaltungen in Zukunft öfter machen zu können.\n
 \nAm Freitag den 13. Januar wird es bei unserer Kneipe metallisch zugehen.
  Also haltet Eure Ohrenschützer griffbereit &#x1f609\;
ATTACH;FMTTYPE=image/jpeg:https://www.lilabi.net/wp-content/uploads/2023/0
 1/fauk-1.png
CATEGORIES:Party
LOCATION:FAU-Lokal\, Metzer Straße 20\, Bielefeld\, Deutschland
X-APPLE-STRUCTURED-LOCATION;VALUE=URI;X-ADDRESS=Metzer Straße 20\, Bielefe
 ld\, Deutschland;X-APPLE-RADIUS=100;X-TITLE=FAU-Lokal:geo:0,0
END:VEVENT
BEGIN:VTIMEZONE
TZID:Europe/Berlin
X-LIC-LOCATION:Europe/Berlin
BEGIN:STANDARD
DTSTART:20221030T020000
TZOFFSETFROM:+0200
TZOFFSETTO:+0100
TZNAME:CET
END:STANDARD
END:VTIMEZONE
END:VCALENDAR