BEGIN:VCALENDAR
VERSION:2.0
PRODID:-//wp-events-plugin.com//7.2.3.1//EN
TZID:Europe/Berlin
X-WR-TIMEZONE:Europe/Berlin
BEGIN:VEVENT
UID:4772@lilabi.net
DTSTART;TZID=Europe/Berlin:20230609T200000
DTEND;TZID=Europe/Berlin:20230609T234500
DTSTAMP:20230606T114049Z
URL:https://www.lilabi.net/events/fau-kneipe-80s-pop/
SUMMARY:FAU-Kneipe: 80's Pop
DESCRIPTION:Am 09. Juni feiern wir 1 Jahr FAU-Kneipe! Kommt gerne vorbei\, 
 wie immer sind Eintritt und Getränke frei\, aber Spenden willkommen.\n\nL
 eichte Sprache:\n\nAm 09. Juni wird die FAU-Kneipe ein Jahr alt!\nKommt ge
 rne vorbei!\nWie immer sind Eintritt und Getränke gratis.\nSpenden sind w
 illkommen.
ATTACH;FMTTYPE=image/jpeg:https://www.lilabi.net/wp-content/uploads/2023/0
 6/FAU-Kneipe_80er_Sharepic_klein.png
CATEGORIES:Kneipe
LOCATION:Gewerkschaftslokal der FAU Bielefeld\, Metzer Str.20 \, Bielefeld\
 , 33607\, Deutschland
X-APPLE-STRUCTURED-LOCATION;VALUE=URI;X-ADDRESS=Metzer Str.20 \, Bielefeld\
 , 33607\, Deutschland;X-APPLE-RADIUS=100;X-TITLE=Gewerkschaftslokal der FA
 U Bielefeld:geo:0,0
END:VEVENT
BEGIN:VTIMEZONE
TZID:Europe/Berlin
X-LIC-LOCATION:Europe/Berlin
BEGIN:DAYLIGHT
DTSTART:20230326T030000
TZOFFSETFROM:+0100
TZOFFSETTO:+0200
TZNAME:CEST
END:DAYLIGHT
END:VTIMEZONE
END:VCALENDAR