BEGIN:VCALENDAR
VERSION:2.0
PRODID:-//wp-events-plugin.com//7.2.3.1//EN
TZID:Europe/Berlin
X-WR-TIMEZONE:Europe/Berlin
BEGIN:VEVENT
UID:4495@lilabi.net
DTSTART;TZID=Europe/Berlin:20230105T180000
DTEND;TZID=Europe/Berlin:20230105T200000
DTSTAMP:20230104T145744Z
URL:https://www.lilabi.net/events/faq-luetzerath/
SUMMARY:FAQ Lützerath
DESCRIPTION:Die Räumung hat begonnen – die Cops sind vor Ort und jetzt h
 eißt es Lützerath verteidigen &#x270a\; Doch du fragst dich\, wie du unt
 erstützen kannst?\n\n&nbsp\;\n\nDann komm am Donnerstag in die VHS Bielef
 eld! Hier bekommst du Infos zur aktuellen Lage vor Ort\, zu verschiedenen 
 Unterstützungsmöglichkeiten innerhalb und außerhalb der Besetzung\, sow
 ie rechtliche Hinweise. Es wird außerdem Raum für Fragen und Austausch g
 eben
CATEGORIES:Austausch/Vernetzung,Infoveranstaltung
LOCATION:Volkshochschule Bielefeld\, Murnausaal\, Ravensberger Park 1\, Bie
 lefeld\, Deutschland
X-APPLE-STRUCTURED-LOCATION;VALUE=URI;X-ADDRESS=Ravensberger Park 1\, Biele
 feld\, Deutschland;X-APPLE-RADIUS=100;X-TITLE=Volkshochschule Bielefeld\, 
 Murnausaal:geo:0,0
END:VEVENT
BEGIN:VTIMEZONE
TZID:Europe/Berlin
X-LIC-LOCATION:Europe/Berlin
BEGIN:STANDARD
DTSTART:20221030T020000
TZOFFSETFROM:+0200
TZOFFSETTO:+0100
TZNAME:CET
END:STANDARD
END:VTIMEZONE
END:VCALENDAR