BEGIN:VCALENDAR
VERSION:2.0
PRODID:-//wp-events-plugin.com//7.2.3.1//EN
TZID:Europe/Berlin
X-WR-TIMEZONE:Europe/Berlin
BEGIN:VEVENT
UID:4608@lilabi.net
DTSTART;TZID=Europe/Berlin:20230206T200000
DTEND;TZID=Europe/Berlin:20230206T230000
DTSTAMP:20230116T163313Z
URL:https://www.lilabi.net/events/einfuehrung-in-die-transformative-gerech
 tigkeit-2/
SUMMARY:Einführung in die transformative Gerechtigkeit
DESCRIPTION:Am 06.02  findet der nächste Rote Montag statt!\n\nDiesmal l
 ädt der Antisexistische Support Bielefeld zu einer „Einführung in die 
 transformative Gerechtigkeit“ ein.\n\nMit diesem Vortrag wollen wir uns 
 gemeinsam mit euch die Konzepte Transformative Gerechtigkeit und Kollektiv
 e Verantwortungsübernahme näher anschauen. Diese Konzepte wurden von Sch
 warzen\, queeren Communities und queeren Communities of Color in den 19903
 4 Jahren in den USA entwickelt. Sie knüpfen unter anderem an resturative 
 Gerechtigkeitskonzepte indigender Menschen in Lateinamerika an und verbind
 en diese mit abolitionistischen Theorie und Praxen wie einer Kritik an Sta
 at und Polizei und deren „Sicherheits“verständnissen.\n\nTransformati
 ve Gerechtigkeit verbindet also kollektive Umgänge mit zwischenmenschlich
 er Gewalt mit einer Analyse und Kritik kolonialer und kapitalistischer Ver
 hältnisse. Im Vortrag sollen unter Anderem die Notwendigkeit anderer Gere
 chtigkeitsverständnisse und Umgänge mit zwischenmenschlicher Gewalt\, di
 e Entstehungskontexte von Transformativer Gerechtigkeit und kollektive Umg
 änge mit Gewalt in unserer Gesellschaft veranschaulicht werden.\n\nDie Ve
 ranstaltung findet auf deutscher Lautsprache statt. Leider sind die Räuml
 ichkeiten nicht barrierearm zugänglich. Wenn ihr Nachfragen bezüglich de
 r Zugänglichkeit der Räumlichkeiten habt\, schreibt uns gerne eine Mail 
 (an antisexistischersupportbielefeld@riseup.net) und wir versuchen eine L
 ösung zu finden.  Wir wünschen uns\, dass alle bei der Veranstaltung Ma
 ske tragen um die Teilhabe für möglichst viele Menschen zu gewährleiste
 n.\n\nWir freuen uns auf euch &#x1f642\;
ATTACH;FMTTYPE=image/jpeg:https://www.lilabi.net/wp-content/uploads/2023/0
 1/signal-2023-01-15-214325_002.png
CATEGORIES:Vortrag
LOCATION:Extra Blues Bar\, Siekerstraße 20\, Bielefeld\, Deutschland
X-APPLE-STRUCTURED-LOCATION;VALUE=URI;X-ADDRESS=Siekerstraße 20\, Bielefel
 d\, Deutschland;X-APPLE-RADIUS=100;X-TITLE=Extra Blues Bar:geo:0,0
END:VEVENT
BEGIN:VTIMEZONE
TZID:Europe/Berlin
X-LIC-LOCATION:Europe/Berlin
BEGIN:STANDARD
DTSTART:20221030T020000
TZOFFSETFROM:+0200
TZOFFSETTO:+0100
TZNAME:CET
END:STANDARD
END:VTIMEZONE
END:VCALENDAR