BEGIN:VCALENDAR
VERSION:2.0
PRODID:-//wp-events-plugin.com//7.2.3.1//EN
TZID:Europe/Berlin
X-WR-TIMEZONE:Europe/Berlin
BEGIN:VEVENT
UID:3579@lilabi.net
DTSTART;TZID=Europe/Berlin:20211104T180000
DTEND;TZID=Europe/Berlin:20211104T210000
DTSTAMP:20211103T090339Z
URL:https://www.lilabi.net/events/ein-blick-auf-die-grenzen-zur-situation-
 gefluechteter-in-bulgarien/
SUMMARY:Ein Blick auf die Grenzen. Zur Situation Geflüchteter in Bulgarien
 .
DESCRIPTION:Ein Blick auf die Grenzen.                   
                                      
             Detmold\, 02.11.2021\n\nVortrag zur Situation Gefl
 üchteter in Bulgarien. \n\nMit Mathias Fiedler\, Soziologe und Kulturanth
 ropologe (Bordermonitoring.eu)\n\nImmer öfter suchen Menschen\, die über
  Bulgarien in die europäische Union eingereist sind\, Hilfe beim Kirchena
 sylnetzwerk im Kreis Lippe.\n\nNach der Dublin-III-VO wäre Bulgarien für
  die Bearbeitung Ihrer Asylanträge zuständig.\n\nDeutsche Behörden stel
 len Bulgarien bis heute häufig als völlig unproblematisch Geflüchtete d
 ar. Verschiedene Menschenrechtsorganisationen kritisieren dort jedoch scho
 n seit langem die dortigen Zustände. So weichen die Anerkennungsquoten im
  Asylverfahren vom europäischen Durchschnitt ab und legen die Vermutung s
 ystemischer Mängel im Asylverfahren nahe.\n\nSeit fünf Jahren werden in 
 Bulgarien vor allem afghanische Menschen aufgegriffen. Das hat sich währe
 nd des Abzugs der Nato aus Afghanistan noch verstärkt. Bisher sahen sich 
 afghanische Staatsangehörige in Bulgarien jedoch mit einer Anerkennungsqu
 ote von lediglich 4% konfrontiert. Zum Vergleich: In der EU betrug deren A
 nerkennungsquote im letzten Jahr im Durchschnitt 53%.\n\nDer bulgarische G
 renzschutz wendet „Push-Backs“ an\, die häufig mit Gewalt verbunden s
 ind. Hierzu kooperiert Bulgarien intensiv mit der Türkei beim Schutz der 
 gemeinsamen Grenze. Dabei verstößt es völkerrechtlich gegen das Non-Ref
 oulement-Gebot. Erst im Juli 2021 hatte der Europäische Gerichtshof für 
 Menschenrechte den Push-Back eines Journalisten durch Bulgarien in die Tü
 rkei verurteilt. Der derzeitige bulgarische Innenminister Bojko Raschkow e
 rklärte Ende desselben Monats\, dass seit Anfang diesen Jahres 17.621\, s
 og. Drittstaatsangehörige versucht hätten\, „illegal“ nach Bulgarien
  einzureisen\, was verhindert worden sei. Kurz darauf kündigte Raschkow a
 n\, dass Bulgarien Hunderte Soldaten an die Grenze zu Griechenland und der
  Türkei entsenden werde\, um diese dadurch besser zu schützen.\n\nDer Mi
 grationsforscher Mathias Fiedler von der Organisation bordermonitoring.eu 
 beleuchtet in seinem Vortrag die Situation an den bulgarischen EU-Außengr
 enzen. Der Mitautor des Berichts „Get out! Zur Situation von Geflüchtet
 en in Bulgarien“ spricht über die offenen und geschlossenen Flüchtling
 slager und Abschiebehaftzentren innerhalb Bulgariens und beschreibt die do
 rtige Situation anerkannter Geflüchteter.\n\nDer Vortrag findet online st
 att.\n\nEs wird um vorherige Anmeldung unter Anmeldung@fh-L.org gebeten. N
 ach erfolgter Anmeldung erhalten Sie die Zugangsdaten per Mail. \n\nEine K
 ooperationsveranstaltung der Flüchtlingshilfe Lippe e.V. mit der lippisch
 en Landeskirche.\nhttps://fh-l.org/vortragbulgarien/\n\n&nbsp\;
ATTACH;FMTTYPE=image/jpeg:https://www.lilabi.net/wp-content/uploads/2021/1
 1/PLakat.png
CATEGORIES:Vortrag
LOCATION:https://fh-l.org/vortragbulgarien/
END:VEVENT
BEGIN:VTIMEZONE
TZID:Europe/Berlin
X-LIC-LOCATION:Europe/Berlin
BEGIN:STANDARD
DTSTART:20211031T020000
TZOFFSETFROM:+0200
TZOFFSETTO:+0100
TZNAME:CET
END:STANDARD
END:VTIMEZONE
END:VCALENDAR