BEGIN:VCALENDAR
VERSION:2.0
PRODID:-//wp-events-plugin.com//7.2.3.1//EN
TZID:Europe/Berlin
X-WR-TIMEZONE:Europe/Berlin
BEGIN:VEVENT
UID:4448@lilabi.net
DTSTART;TZID=Europe/Berlin:20221025T180000
DTEND;TZID=Europe/Berlin:20221025T210000
DTSTAMP:20221103T094753Z
URL:https://www.lilabi.net/events/dresden-premiere-film-rise-up/
SUMMARY:Dresden Premiere Film RISE UP
DESCRIPTION:RISE UP -   der neue Film des Teams von “Hamburger
  Gitter“\n\nTRAILER: https://youtu.be/sbJ9_BvEQek\nAm 23.10. mit Filmg
 espräch in der SCHAUBURG und ab dem 27.10. dort im Programm.\nTickets: ht
 tps://www.kinoheld.de/kino-bremen/schauburg-kino-bremen?mode=widget&amp\;s
 howId=18150&amp\;target=self#panel-seats\n\nNicht nur die aktuellen Protes
 te im Iran zeigen\, wie überraschend und mit welch hoher Geschwindigkeit 
 gesellschaftliche Umbrüche stattfinden können\, der Film RISE UP - unter
 sucht politische Umbrüche aus 4 Kontinenten und 4 Jahrzehnten und setzt s
 ie als flammendes Plädoyer gegen ein Gefühl politischer Ohnmacht\, dass 
 in Zeiten sich gegenseitig verstärkender Krisen immer stärker wird.
ATTACH;FMTTYPE=image/jpeg:https://www.lilabi.net/wp-content/uploads/2022/1
 0/plakat-thumb-1zu1-klein.jpg
CATEGORIES:Film
END:VEVENT
BEGIN:VTIMEZONE
TZID:Europe/Berlin
X-LIC-LOCATION:Europe/Berlin
BEGIN:DAYLIGHT
DTSTART:20220327T030000
TZOFFSETFROM:+0100
TZOFFSETTO:+0200
TZNAME:CEST
END:DAYLIGHT
END:VTIMEZONE
END:VCALENDAR