BEGIN:VCALENDAR
VERSION:2.0
PRODID:-//wp-events-plugin.com//7.2.3.1//EN
TZID:Europe/Berlin
X-WR-TIMEZONE:Europe/Berlin
BEGIN:VEVENT
UID:4700@lilabi.net
DTSTART;TZID=Europe/Berlin:20230405T183000
DTEND;TZID=Europe/Berlin:20230405T203000
DTSTAMP:20230320T171647Z
URL:https://www.lilabi.net/events/diskussionsveranstaltung-trotz-ukrainekr
 ieg-fuer-eine-oekologische-militaerfreie-sowie-sozial-und-global-gerechte-
 zeitenwendede/
SUMMARY:Diskussionsveranstaltung: Trotz Ukrainekrieg: Für eine ökologisch
 e\, militärfreie sowie sozial und global gerechte zeitenwendede
DESCRIPTION:
CATEGORIES:Diskussion
LOCATION:Haus der Kirche\, Markgrafenstraße 7\, 33602 Bielefeld\, Deutschl
 and
X-APPLE-STRUCTURED-LOCATION;VALUE=URI;X-ADDRESS=Markgrafenstraße 7\, 33602
  Bielefeld\, Deutschland;X-APPLE-RADIUS=100;X-TITLE=Haus der Kirche:geo:0,
 0
END:VEVENT
BEGIN:VTIMEZONE
TZID:Europe/Berlin
X-LIC-LOCATION:Europe/Berlin
BEGIN:DAYLIGHT
DTSTART:20230326T030000
TZOFFSETFROM:+0100
TZOFFSETTO:+0200
TZNAME:CEST
END:DAYLIGHT
END:VTIMEZONE
END:VCALENDAR