BEGIN:VCALENDAR
VERSION:2.0
PRODID:-//wp-events-plugin.com//7.2.3.1//EN
TZID:Europe/Berlin
X-WR-TIMEZONE:Europe/Berlin
BEGIN:VEVENT
UID:1463@lilabi.net
DTSTART;TZID=Europe/Berlin:20181026T190000
DTEND;TZID=Europe/Berlin:20181026T220000
DTSTAMP:20180929T091055Z
URL:https://www.lilabi.net/events/diskussion-wie-kann-selbstbestimmtes-woh
 nen-in-paderborn-gelingen/
SUMMARY:Diskussion - Wie kann selbstbestimmtes Wohnen in Paderborn gelingen
 ?
DESCRIPTION:Zum Abschluss wollen wollen wir darüber reden\, wie selbstbest
 immtes Wohnen in Paderborn selbst umgesetzt werden kann. Wie soll es ausse
 hen? Wie kann es organisiert werden? Welche Unterstützung dafür existier
 t? Dazu haben wir eine Reihe von Gruppen und Initiativen eingeladen\, die 
 sich bereits aktiv in diesem Bereich in Paderborn engagieren und durch ihr
 e Expertise die Diskussion unterstützen können.
ATTACH;FMTTYPE=image/jpeg:https://www.lilabi.net/wp-content/uploads/2018/0
 9/PlakatGentryWEB-2.png
CATEGORIES:Diskussion
LOCATION:AWO Leo\, Leostraße 45\, Paderborn\, Nordrhein-Westfalen\, 33098\
 , Ostwestfalen\, Deutschland
X-APPLE-STRUCTURED-LOCATION;VALUE=URI;X-ADDRESS=Leostraße 45\, Paderborn\,
  Nordrhein-Westfalen\, 33098\, Ostwestfalen\, Deutschland;X-APPLE-RADIUS=1
 00;X-TITLE=AWO Leo:geo:0,0
END:VEVENT
BEGIN:VTIMEZONE
TZID:Europe/Berlin
X-LIC-LOCATION:Europe/Berlin
BEGIN:DAYLIGHT
DTSTART:20180325T030000
TZOFFSETFROM:+0100
TZOFFSETTO:+0200
TZNAME:CEST
END:DAYLIGHT
END:VTIMEZONE
END:VCALENDAR