BEGIN:VCALENDAR
VERSION:2.0
PRODID:-//wp-events-plugin.com//7.2.3.1//EN
TZID:Europe/Berlin
X-WR-TIMEZONE:Europe/Berlin
BEGIN:VEVENT
UID:4743@lilabi.net
DTSTART;TZID=Europe/Berlin:20230612T180000
DTEND;TZID=Europe/Berlin:20230612T203000
DTSTAMP:20230525T114317Z
URL:https://www.lilabi.net/events/diese-spontane-arbeitsniederlegung-war-n
 icht-geplant/
SUMMARY:„Diese spontane Arbeitsniederlegung war nicht geplant“
DESCRIPTION:VHS Bielefeld  Murnau-Saal (3. OG)  -  Ravensberger Park 1 
    -  3607 Bielefeld\n\n„Diese spontane Arbeitsniederlegung war nicht 
 geplant“\n\nFilmvorführung &amp\; Diskussion mit Zeitzeug*innen/Aktivis
 t*innen der Streiks bei Rheinstahl in Bielefeld-Brackwede und bei Hella in
  Lippstadt 1973\n\nim Rahmen der Reihe\n\n„Ihr Kampf ist unser Kampf –
  Streik 1973 bis 2023 und darüber hinaus“\n\nVor 50 Jahren fanden in We
 st-Deutschland über 300 sogenannte „wilde Streiks“ statt\, von denen 
 in NRW vor allem die Streiks im Sommer 1973 bei Pierburg und Ford im Gedä
 chtnis geblieben sind. Viele der spontanen Streiks waren von Migrant*innen
  getragen\, die tagtäglich rassistischen und sexistischen Lohnhierarchien
  ausgesetzt waren. Diese „wilden Streiks“ blieben nicht ohne Rückwirk
 ung auf die „offiziellen“ Arbeitskämpfe der DGB-Gewerkschaften und f
 ührten insgesamt zu einer Politisierung der sozialen Auseinandersetzungen
  in der BRD.\n\nDer Dokumentarfilm „Diese spontane Arbeitsniederlegung w
 ar nicht geplant“ (1982) (Thomas Giefer\, Yüksel Uğurlu\, Klaus Baumga
 rten) blickt neun Jahre nach dem „wilden Streik“ im Kölner Ford-Werk 
 gemeinsam mit Aktivist*innen zurück auf die damaligen Proteste und fragt 
 nach ihren Folgen.\n\nIm Anschluss an die Filmvorführung wird Nuria Cafar
 o (Universität Köln) gemeinsam mit Klaus Gutbrod\, Zeitzeuge des Streiks
  bei Rheinstahl in Bielefeld-Brackwede\, und Irina Vavitsa\, Zeitzeugin de
 s Streiks bei Hella in Lippstadt\, in einem Publikumsgespräch über die A
 useinandersetzungen 1973 sprechen.\n\nWie war die konkrete Situation bei R
 heinstahl und Hella? Vor welchen Herausforderungen standen die Streikenden
 ? Warum kam es zwischen 1969 - 1974 zu so einschneidenden Arbeitskämpfen 
 in der Bundesrepublik? Wie war die Situation in anderen europäischen Län
 dern? Welche Wechselwirkungen gab es zwischen den sogenannten „wilden St
 reiks“\, den „offiziellen“ Arbeitskämpfen und migrantischen Selbsto
 rganisationen? Welche Auswirkungen hatten die migrantischen Proteste auf d
 ie DGB-Gewerkschaften? Was lässt sich aus den damaligen Kämpfen für die
  Gegenwart lernen?\n\nProgramm:\n\n18:00h - 18:45h\n\nFilmvorführung: „
 Diese spontane Arbeitsniederlegung war nicht geplant“ (1982) Dokumentarf
 ilm von Thomas Giefer\, Yüksel Uğurlu\, Klaus Baumgarten\n\n18:45h - 19:
 15h Pause\n\n19:15h - 20:30h\n\nDiskussionsveranstaltung mit Klaus Gutbrod
  (Zeitzeuge des Streiks bei Rheinstahl in Bielefeld-Brackwede) und Irina V
 avitsa (Zeitzeugin des Streiks bei den Hella-Werken\, Lippstadt) Moderatio
 n: Nuria Cafaro (Universität Köln)\n\nKooperationsveranstaltung\n\nder R
 osa-Luxemburg-Stiftung NRW\, des Rosa-Luxemburg-Clubs Bielefeld\, "Arbeit 
 und Leben" Bielefeld e.V.\, der VHS Bielefeld und "Arbeit und Leben" im Kr
 eis Herford e.V.
CATEGORIES:Diskussion,Film
LOCATION:VHS Bielefeld\, Ravensberger Park 1\, Bielefeld\, Deutschland
X-APPLE-STRUCTURED-LOCATION;VALUE=URI;X-ADDRESS=Ravensberger Park 1\, Biele
 feld\, Deutschland;X-APPLE-RADIUS=100;X-TITLE=VHS Bielefeld:geo:0,0
END:VEVENT
BEGIN:VTIMEZONE
TZID:Europe/Berlin
X-LIC-LOCATION:Europe/Berlin
BEGIN:DAYLIGHT
DTSTART:20230326T030000
TZOFFSETFROM:+0100
TZOFFSETTO:+0200
TZNAME:CEST
END:DAYLIGHT
END:VTIMEZONE
END:VCALENDAR