BEGIN:VCALENDAR
VERSION:2.0
PRODID:-//wp-events-plugin.com//7.2.3.1//EN
TZID:Europe/Berlin
X-WR-TIMEZONE:Europe/Berlin
BEGIN:VEVENT
UID:4474@lilabi.net
DTSTART;TZID=Europe/Berlin:20221213T190000
DTEND;TZID=Europe/Berlin:20221213T210000
DTSTAMP:20221122T223914Z
URL:https://www.lilabi.net/events/die-wuerde-des-balles-oder-fussball-gege
 n-die-ordnung/
SUMMARY:Die Würde des Balles - oder Fussball gegen die Ordnung
DESCRIPTION:Als Gegenbewegung zum Deutschen Fußballbund (DFB) entstand in 
 den 1970er-Jahren der sogenannte „Wilde Fußball“. Statt strikten Ver
 eins-\, Turnier- und Ligastrukturen\, organisierten die Anhänger ihre eig
 enen Veranstaltungen\, verzichteten auf Trikotordnung und Schiedsrichter u
 nd schufen eine „Jeder-ist-willkommen-Kultur“. So entstand ein ganz e
 igener und neuer Ansatz für den Fußballsport\, aus dem schließlich in B
 ielefeld die erste Wilde Liga hervorging. Die praktizierte demokratische R
 egeldiskussion kann zwar manchmal anstrengend sein\, sorgt aber auch für 
 eine einzigartige Atmosphäre und ein starkes Gegenstatement zum vorherrsc
 henden Leistungsdruck und der Kommerzialisierung eines Sports\, dessen wic
 htigste Aspekte noch immer das Gemeinschaftsgefühl und der Spaß sein sol
 lten.\n\nDie Würde des Balles: Oder Fußball gegen die Ordnung ist ein de
 utscher Dokumentarfilm von Regisseur Max Meis aus dem Jahr 2017. Der Film 
 befasst sich mit dem deutschlandweit verbreiteten Phänomen des Alternativ
 fussball am Beispiel der vermutlich ältesten Alternativliga Deutschlands\
 , der Wilden Liga in Bielefeld. Der 95 Minuten lange Film feierte im März
  2017 Premiere.\n\nEine Veranstaltung der Antinationalen Linken Bielefeld 
 [ALIBI] im Rahmen der Veranstaltungsreihe "Boykott Katar".
ATTACH;FMTTYPE=image/jpeg:https://www.lilabi.net/wp-content/uploads/2022/1
 1/layoutfinal-5.jpg
CATEGORIES:Film
LOCATION:Nr. z. P.\, Große Kurfürstenstraße 81\, Bielefeld\, Deutschland
X-APPLE-STRUCTURED-LOCATION;VALUE=URI;X-ADDRESS=Große Kurfürstenstraße 8
 1\, Bielefeld\, Deutschland;X-APPLE-RADIUS=100;X-TITLE=Nr. z. P.:geo:0,0
END:VEVENT
BEGIN:VTIMEZONE
TZID:Europe/Berlin
X-LIC-LOCATION:Europe/Berlin
BEGIN:STANDARD
DTSTART:20221030T020000
TZOFFSETFROM:+0200
TZOFFSETTO:+0100
TZNAME:CET
END:STANDARD
END:VTIMEZONE
END:VCALENDAR