BEGIN:VCALENDAR
VERSION:2.0
PRODID:-//wp-events-plugin.com//7.2.3.1//EN
TZID:Europe/Berlin
X-WR-TIMEZONE:Europe/Berlin
BEGIN:VEVENT
UID:3696@lilabi.net
DTSTART;TZID=Europe/Berlin:20220324T200000
DTEND;TZID=Europe/Berlin:20220324T220000
DTSTAMP:20220307T114141Z
URL:https://www.lilabi.net/events/die-volksrepublik-china-perspektiven-der
 -entwicklung/
SUMMARY:Die Volksrepublik China :  Perspektiven der Entwicklung
DESCRIPTION:Die Volksrepublik China : Perspektiven der Entwicklung\n\nmit:
   Prof. Dr. Wolfram Elsner\, Universität Bremen\n\nDemokratische Rechte 
 und staatliche Lenkung\n\nPlan oder Markt  -  Plan und Markt? Der Fünfj
 ahresplan 2021 - 2025\n\nÖkonomie und Ökologie: Umwelt- und Klimaschutz\
 n\nChina als Weltmacht: Ökonomisch\, technisch\, militärisch - ein Kampf
  um die Vorherrschaft?\n\nChina auf einem sozialistischen oder einem autor
 itärem  Weg ?
CATEGORIES:Infoveranstaltung
LOCATION:Bürger*innenwache Siegfriedplatz\, Rolandstr. 16\, 33615 Bielefel
 d\, Deutschland
X-APPLE-STRUCTURED-LOCATION;VALUE=URI;X-ADDRESS=Rolandstr. 16\, 33615 Biele
 feld\, Deutschland;X-APPLE-RADIUS=100;X-TITLE=Bürger*innenwache Siegfried
 platz:geo:0,0
END:VEVENT
BEGIN:VTIMEZONE
TZID:Europe/Berlin
X-LIC-LOCATION:Europe/Berlin
BEGIN:STANDARD
DTSTART:20211031T020000
TZOFFSETFROM:+0200
TZOFFSETTO:+0100
TZNAME:CET
END:STANDARD
END:VTIMEZONE
END:VCALENDAR