BEGIN:VCALENDAR
VERSION:2.0
PRODID:-//wp-events-plugin.com//7.2.3.1//EN
TZID:Europe/Berlin
X-WR-TIMEZONE:Europe/Berlin
BEGIN:VEVENT
UID:3454@lilabi.net
DTSTART;TZID=Europe/Berlin:20201121T190000
DTEND;TZID=Europe/Berlin:20201121T190000
DTSTAMP:20201111T115759Z
URL:https://www.lilabi.net/events/die-sprachliche-gestalt-von-antisemitism
 us-nach-1945-wie-ich-das-chamaeleon-entdecken-kann/
SUMMARY:Die sprachliche Gestalt von Antisemitismus nach 1945 – Wie ich da
 s Chamäleon entdecken kann.
DESCRIPTION:Die sprachliche Gestalt von Antisemitismus nach 1945 – Wie ic
 h das Chamäleon entdecken kann.\n\nVortrag von Anna-Sophie Althoff\n\nAnt
 isemitismus nach 1945 hat viele verschiedene Erscheinungsformen. Wie er in
  Erscheinung tritt ist stark diskursabhängig. Die Manifestation antisemit
 ischer Stereotype gelang und gelingt bis heute über Sprache. Häufig ist 
 es nicht leicht die Sprache und Semantik der verschiedenen Erscheinungsfor
 men des Antisemitismus zu decodieren\, da er sich oftmals wie ein Chamäle
 on seinen Weg in die (Alltags-)Sprache bahnt. Antisemitismus hat in Deutsc
 hland nach 1945 vielfältige Formen angenommen und nimmt eine mehr oder we
 niger stark codierte sprachliche Gestalt an. Aber wie genau tritt Antisemi
 tismus nach 1945 sprachlich in Erscheinung und wie kann er decodiert werde
 n? Der Vortrag soll eine Einführung in die Sprache und Semantik von Antis
 emitismus im deutschsprachigen Raum nach 1945 sein. Welche Rolle spielt di
 e Rhetorik der Neuen Rechten und wie kann der darin enthaltenden Antisemit
 ismus entschlüsselt werden?\n\nEigentlich hatten wir geplant vom 17.- 29.
 11. die Ausstellung „Keine Alternative“ der Vereinigung der Verfolgten
  des Naziregimes - Bund der Antifaschist*innen zu zeigen. Die Ausstellung 
 analysiert die Ideologie der AfD und zeigt deren Verbindung in die rechtse
 xtreme Szene. Aufgrund des Pandemiegeschehens ist dies nun nicht mehr mög
 lich. Ergänzen wollten wir die Ausstellung durch eine Vortragsreihe. Dies
 e führen wir nun online durch.\n\nAn dieser Stelle möchten wir den Verei
 nen Artists Unlimited\, Kulturhaus Bielefeld\, Nummer zu Platz und Forum B
 ielefeld danken. Die Ausstellung und die Vorträge hätten eigentlich an d
 iesen Orten stattfinden sollen. Besonders Kulturorte und Kulturschaffende 
 sind von den coronabedingten Maßnahmen betroffen. Die Eindämmung der Pan
 demie ist erstmal am wichtigsten - aber Orte wie Artists Unlimited\, das K
 ulturhaus\, das Nummer zu Platz und das Forum müssen unterstützt werden\
 , damit sie auch nach der Pandemie noch da sind.
ATTACH;FMTTYPE=image/jpeg:https://www.lilabi.net/wp-content/uploads/2020/1
 1/124177294_858669631561641_5501444763854640257_o.jpg
CATEGORIES:Vortrag
END:VEVENT
BEGIN:VTIMEZONE
TZID:Europe/Berlin
X-LIC-LOCATION:Europe/Berlin
BEGIN:STANDARD
DTSTART:20201025T020000
TZOFFSETFROM:+0200
TZOFFSETTO:+0100
TZNAME:CET
END:STANDARD
END:VTIMEZONE
END:VCALENDAR