BEGIN:VCALENDAR
VERSION:2.0
PRODID:-//wp-events-plugin.com//7.2.3.1//EN
TZID:Europe/Berlin
X-WR-TIMEZONE:Europe/Berlin
BEGIN:VEVENT
UID:4455@lilabi.net
DTSTART;TZID=Europe/Berlin:20221114T190000
DTEND;TZID=Europe/Berlin:20221114T210000
DTSTAMP:20221104T151228Z
URL:https://www.lilabi.net/events/die-russische-linke-gegen-den-krieg/
SUMMARY:Die russische Linke gegen den Krieg
DESCRIPTION:Der Angriff der Russischen Armee auf die Ukraine im Februar 202
 2 und der immer noch andauernde Krieg zwischen beiden Staaten hatte weltwe
 ite Konsequenzen wie kein anderer Krieg des letzten Jahrzehnts. Sowohl von
  Seiten des russischen Staates\, als auch des die Ukraine unterstützenden
  Westens wird die Eskalationsspirale trotz massiver Not und Auswirkungen a
 uf der ganzen Welt immer weiter getrieben. Massive Aufrüstungsprogramme\,
  Zwangsrekrutierung\, Teilmobilmachung\, sowie das am immer dünner wirken
 den Faden baumelnde Damoklesschwert der Kriegsführung mit nuklearen Waffe
 n.\n\nEs ist klar\, dass ein Einsatz für Frieden und gegen Militarismus u
 nter diesen Bedingungen als hoffnungslos erscheint. Dennoch formiert sich 
 Widerstand. Trotz heftiger Repression brachen seit Beginn des Krieges in v
 ielen russischen Städten starke Proteste gegen den Krieg der eigenen Regi
 erung aus. Allein in den ersten Wochen wurden über 13.000 Menschen verhaf
 tet.\n\nAls Antimilitarist*innen\, die das 100 Milliarden schwere Aufrüst
 ungspaket der eigenen deutschen Regierung mit Sorge betrachten\, wollen wi
 r uns über die internationale Antikriegsbewegung informieren\, die teilwe
 ise unter lebensgefährlichen Bedingungen für ein Ende des sinnlosen Grau
 ens auf die Straße geht. Zu diesem Zweck haben wir Ewgeniy Kasakow nach B
 ielefeld eingeladen. Der Historiker\, Journalist und Autor berichtet in se
 inem neuesten Buch\, »Spezialoperation und Frieden«\, das Mitte Dezember
  im Unrast-Verlag erscheint\, über die Antikriegsbewegung in Russland und
  im Exil.\n\nKommt vorbei\, um mit uns etwas über dieses interessante\, b
 isher wenig detailliert beachtete Thema zu lernen!
ATTACH;FMTTYPE=image/jpeg:https://www.lilabi.net/wp-content/uploads/2022/1
 1/Untitled.jpg
CATEGORIES:Buchvorstellung,Diskussion,Vortrag
LOCATION:AJZ Bielefeld\, Heeper Str. 132\, 33607 Bielefeld\, Deutschland
X-APPLE-STRUCTURED-LOCATION;VALUE=URI;X-ADDRESS=Heeper Str. 132\, 33607 Bie
 lefeld\, Deutschland;X-APPLE-RADIUS=100;X-TITLE=AJZ Bielefeld:geo:0,0
END:VEVENT
BEGIN:VTIMEZONE
TZID:Europe/Berlin
X-LIC-LOCATION:Europe/Berlin
BEGIN:STANDARD
DTSTART:20221030T020000
TZOFFSETFROM:+0200
TZOFFSETTO:+0100
TZNAME:CET
END:STANDARD
END:VTIMEZONE
END:VCALENDAR