BEGIN:VCALENDAR
VERSION:2.0
PRODID:-//wp-events-plugin.com//7.2.3.1//EN
TZID:Europe/Berlin
X-WR-TIMEZONE:Europe/Berlin
BEGIN:VEVENT
UID:4948@lilabi.net
DTSTART;TZID=Europe/Berlin:20240220T190000
DTEND;TZID=Europe/Berlin:20240220T210000
DTSTAMP:20240212T203459Z
URL:https://www.lilabi.net/events/die-radikalisierung-der-afd-und-ihr-zune
 hmender-erfolg-in-oeffentlichkeit-und-politik-3/
SUMMARY:Die Radikalisierung der AfD und ihr zunehmender Erfolg in Öffentli
 chkeit und Politik
DESCRIPTION:Die Radikalisierung der AfD und ihr zunehmender Erfolg in Öffe
 ntlichkeit und Politik\n\nProf. Dr. Wilhelm Heitmeyer\n\nProf. Dr. Wilhelm
  Heitmeyer\, langjähriger Leiter des Instituts für interdisziplinäre Ko
 nflikt- und Gewaltforschung der Universität Bielefeld\, hat sich immer wi
 eder mit Tendenzen der Rechtsentwicklung in Deutschland auseinandergesetzt
 . In dieser Veranstaltung wird er über die AfD sprechen\, über ihre zune
 hmende Radikalisierung und über ihren Erfolg in Öffentlichkeit und Polit
 ik: "Die AfD befindet sich in einem Höhenflug". Radikalisierung analysier
 t er in den Dimensionen: autoritär\, national und radikal\, als "autorit
 ären Nationalradikalismus".\n\nDer Erfolg der AfD zeige\, dass sich ein T
 eil der Bevölkerung nicht wahrgenommen\, nicht anerkannt\, nicht integrie
 rt fühle. Die AfD verspreche ihnen: "Wir holen uns unser Land zurück."\n
 \nDaran anknüpfend erläutert er\, warum Verbote keine Lösung sein könn
 en: "Einstellungen und Haltungen lassen sich nicht verbieten" und verweist
  darauf\, dass die digitalen Medien andere Formen und Möglichkeiten der P
 ropaganda schaffen.\n\nSchließlich stellt er die Frage: "Was tun?" - eine
  Frage zugleich an die Politik und die demokratische Öffentlichkeit. Sein
 e Schlussfolgerung lautet: "Es muss gekämpft werden\, die Zivilgesellscha
 ft muss bereit sein\, Konflikte auszutragen"\n\nEintritt: frei\n\nVeransta
 lter: Rosa Luxemburg Club Bielefeld in Kooperation mit der Volkshochschule
  Bielefeld und der Rosa Luxemburg Stiftung NRW e.V.
CATEGORIES:Vortrag
LOCATION:VHS Bielefeld\, Murnausaal\, Ravensberger Park 1\, Bielefeld\, Deu
 tschland
X-APPLE-STRUCTURED-LOCATION;VALUE=URI;X-ADDRESS=Ravensberger Park 1\, Biele
 feld\, Deutschland;X-APPLE-RADIUS=100;X-TITLE=VHS Bielefeld\, Murnausaal:g
 eo:0,0
END:VEVENT
BEGIN:VTIMEZONE
TZID:Europe/Berlin
X-LIC-LOCATION:Europe/Berlin
BEGIN:STANDARD
DTSTART:20231029T020000
TZOFFSETFROM:+0200
TZOFFSETTO:+0100
TZNAME:CET
END:STANDARD
END:VTIMEZONE
END:VCALENDAR