BEGIN:VCALENDAR
VERSION:2.0
PRODID:-//wp-events-plugin.com//7.2.3.1//EN
TZID:Europe/Berlin
X-WR-TIMEZONE:Europe/Berlin
BEGIN:VEVENT
UID:3421@lilabi.net
DTSTART;TZID=Europe/Berlin:20200906T000000
DTEND;TZID=Europe/Berlin:20200906T000000
DTSTAMP:20200804T070707Z
URL:https://www.lilabi.net/events/die-microphone-mafia-mehr-als-nur-musik/
SUMMARY:Die Microphone Mafia – Mehr als nur Musik
DESCRIPTION:Begeistert«\, »beeindruckt«\, »bewegt« sind häufige Reakt
 ionen auf Konzerte von ›Bejarano &amp\;Microphone Mafia‹. Sie gäben 
 »Mut\, sich gegen Rassismus und Krieg auszusprechen«. Wenn Rossi Pennino
  und Kutlu Yurtseven\, eingeladen von Kulturgruppen\, Gewerkschaften oder 
 Schulen\,auf Türkisch\, Italienisch und Deutsch rappen\, so blicken sie a
 uf rund 30Jahre ›Microphone Mafia‹ zurück. Deren Geschichte und die p
 ersönliche Geschichte dieser beiden findet sich im Buch. Aufgewachsen im 
 Schatten der Bayer-Werke\, würdigen sie zunächst die erste Generation je
 ner Arbeitsmigranten\, die »alles gaben«. Stets standen sie für das Sel
 bstbewusstsein des HipHop\,das nicht nach dem Lebenslauf fragt. Neben unbe
 schwerten Stücken prägen solche über die Brandanschläge der 1990er Jah
 re das Repertoire der Band. Das NSU-Attentat auf der Kölner Keupstraße e
 rfuhr Kutlu aus der Nähe – allein Grund genug\, sich auch jenseits der 
 Musik inInitiativen oder auf der Schauspielbühne zu positionieren. Gastbe
 iträge von Esther und Joram Bejarano\, Chaoze One\, Murat Güngör\, Hann
 es Loh (Anarchist Academy) u.a. runden das Buch ab.Kutlu Yurtseven\, *1973
 \, Gründungsmitglied von Microphone Mafia\, rappt auf Türkisch undDeutsc
 h. Nach den NSU-Anschlägen Beteiligung an der Initiative »Keupstraße is
 t überall« undMitwirkung am Theaterstück »Die Lücke« des Kölner Sch
 auspiels. Arbeitet alsGanztagskoordinator an einer Schule\; Rosario »Ross
 i« Pennino\, *1972\, Gründungsmitglied vonMicrophone Mafia\, rappt auf I
 talienisch\, Neapolitanisch und Deutsch. Arbeitet als Koch in einer Großk
 antine.\n\nWir wollen wieder im AJZ Veranstaltungen machen. Unter den gege
 benen Umständen wollen auch wir die Einhaltung der Abstandsregelungen sic
 herstellen und zunächst nur Veranstaltungen unter freiem Himmel im AJZ Ho
 f machen. Insofern möchten wir Euch um Folgendes bitten:\n\nBitte meldet 
 Euch unter folgender E-Mail Adresse an:\neine-ehrenwerte-familie@web.de\n\
 nSchreibt zu wie vielen Ihr kommt und ob ihr Abstand zueinander halten mü
 sst oder sowieso immer zusammenhängt/wohnt. Bei großem Interesse bieten 
 wir die Veranstaltung zusätzlich um 16 Uhr an – Bitte schreibt\, ob Ihr
  auch dann könnt.\n\nAnmeldeschluss ist der 30.08.2020. Wir werden dann e
 ntscheiden\, ob die zusätzliche Veranstaltung stattfindet und Euch Besche
 id geben. Wir schreiben Euch dann auch\, was wir tun\, falls es regnet. Ch
 eckt also Eure Mails 1-2 Tage vor der Veranstaltung. Einlass ist 30 Minute
 n vor Beginn. Wer nicht per Mail angemeldet ist kommt nicht rein\, wenn di
 e Platzkapazität von 30 Personen pro Veranstaltung ausgeschöpft ist.\n\n
 Es wird eine Selbstbedienungstheke mit Kaltgetränken geben\, daher wäre 
 es super\, wenn Ihr Kleingeld dabei hättet.\n\nWir möchten gerne allen M
 enschen ermöglichen\, an einer solchen Veranstaltung teilzunehmen. Daher 
 bitten wir darum\, achtsam miteinander umzugehen und solidarisch Abstand e
 inzuhalten. Denkt daran: Ihr wisst nicht immer\, welche Bedürfnisse ander
 e Personen haben.\n\nBitte bringt Masken zur Veranstaltung mit\, tragt die
  beim rein und rausgehen und wenn Ihr euch anderen Leuten (z.B. auf dem We
 g zu eurem Platz) nähert. Nutzt die dazu angezeichneten Wege.\n\npräsent
 iert von akzent_in | akzentin.blogsport.de in Kooperation mit dem FemRef U
 ni Bielefeld
CATEGORIES:Lesung
LOCATION:\, \, 
X-APPLE-STRUCTURED-LOCATION;VALUE=URI;X-ADDRESS=\, ;X-APPLE-RADIUS=100;X-TI
 TLE=:geo:0,0
END:VEVENT
BEGIN:VTIMEZONE
TZID:Europe/Berlin
X-LIC-LOCATION:Europe/Berlin
BEGIN:DAYLIGHT
DTSTART:20200329T030000
TZOFFSETFROM:+0100
TZOFFSETTO:+0200
TZNAME:CEST
END:DAYLIGHT
END:VTIMEZONE
END:VCALENDAR