BEGIN:VCALENDAR
VERSION:2.0
PRODID:-//wp-events-plugin.com//7.2.3.1//EN
TZID:Europe/Berlin
X-WR-TIMEZONE:Europe/Berlin
BEGIN:VEVENT
UID:4800@lilabi.net
DTSTART;TZID=Europe/Berlin:20230812T140000
DTEND;TZID=Europe/Berlin:20230812T180000
DTSTAMP:20230731T110815Z
URL:https://www.lilabi.net/events/die-grosse-klima-rallye-bielefelds-einma
 l-um-den-pudding/
SUMMARY:Die große Klima-Rallye Bielefelds. Einmal um den Pudding
DESCRIPTION:Ihr seid auch frustriert von der aktuellen Klimapolitik? Ihr ha
 bt Lust auf eine tiefergehendere Auseinandersetzung mit potenziellen Strat
 egien im Umgang mit der Klimakrise? Bei der Rallye möchten wir gemeinsam 
 überlegen\, wie Wege in eine lebenswerte Zukunft für alle aussehen könn
 en! Wir möchten zusammen Utopien spinnen\, aber auch lokale und globale M
 aßnahmen vorstellen und diskutieren.\n\nAn unseren verschiedenen Statione
 n habt ihr die Möglichkeit euch unter anderem darüber Gedanken zu machen
 \, wie der Verkehr in Bielefeld und wie Handel weltweit alternativ gestalt
 et werden könnte oder welche Erfolge die Klimagerechtigkeitsbewegung bere
 its erzielt hat. Wir freuen uns auf aktive Teilnahme und spannende Gesprä
 che! Unser Ziel ist es\, dass wir alle aus diesem Nachmittag mit neuer Ene
 rgie und neuen Ideen gehen und Hoffnung für eine klimagerechte Zukunft sc
 höpfen können. Das verbinden wir mit Spielen\, leckerem veganen Kuchen u
 nd extra Angeboten für Kids an einigen Stationen!\n\nKurz zum Ablauf: Ihr
  könnt an dem Nachmittag vom 12. August flexibel zwischen 14 und 18 Uhr a
 n der Rallye teilnehmen. Der Start ist am Park der Menschenrechte\, wo ihr
  einen Rallye-Pass bekommt. Mit diesem Pass findet ihr die weiteren Statio
 nen in der Stadt und könnt Stempel sammeln. Alle Stationen sind in der Bi
 elefelder Altstadt und sind fußläufig erreichbar. Ihr könnt so viele St
 ationen mitmachen wie ihr möchtet und euch am Ende eine kleine Überrasch
 ung am Park der Menschenrechte abholen!\n\nBei Fragen meldet euch gerne pe
 r Mail an bielefeld@bundjugend-nrw.de oder bei Insta an bundjugend_bielefe
 ld.\n\nWir freuen uns auf euch!
ATTACH;FMTTYPE=image/jpeg:https://www.lilabi.net/wp-content/uploads/2023/0
 7/1_kleiner_700.png
END:VEVENT
BEGIN:VTIMEZONE
TZID:Europe/Berlin
X-LIC-LOCATION:Europe/Berlin
BEGIN:DAYLIGHT
DTSTART:20230326T030000
TZOFFSETFROM:+0100
TZOFFSETTO:+0200
TZNAME:CEST
END:DAYLIGHT
END:VTIMEZONE
END:VCALENDAR