BEGIN:VCALENDAR
VERSION:2.0
PRODID:-//wp-events-plugin.com//7.2.3.1//EN
TZID:Europe/Berlin
X-WR-TIMEZONE:Europe/Berlin
BEGIN:VEVENT
UID:4685@lilabi.net
DTSTART;TZID=Europe/Berlin:20230301T190000
DTEND;TZID=Europe/Berlin:20230301T210000
DTSTAMP:20230228T130426Z
URL:https://www.lilabi.net/events/die-burschenschaft-normannia-nibelungen-
 und-der-japaner-mishima/
SUMMARY:Die Burschenschaft Normannia Nibelungen und der Japaner Mishima
DESCRIPTION:„Yukio Mishima – Leben und Tragik des letzten Samurai“ 
 – so lautet der Titel eines Vortrags vom 1. Februar 2023 zu dem die Biel
 efelder Burschenschaft Normannia Nibelungen einlud. Im heutigen Vortrag wi
 rd analysiert\, was die extreme Rechte an diesem 1925 geborenen und 1970 v
 erstorbenen Mishima geradezu fasziniert.\n\nEs wird Thema sein\, wer diese
 r „Bundesbruder Granate“ ist\, der als Referent angekündigt war und w
 arum die veranstaltende Burschenschaft Normannia Nibelungen seit langem ei
 ner der wichtigen Akteure der extremen Rechten im Raum Ostwestfalen ist.
LOCATION:Bielefeld\, Bürgerwache am Siegfriedplatz\, Siegfriedplatz\, Rola
 ndstraße\, Bielefeld\, NRW\, 33615\, Deutschland
X-APPLE-STRUCTURED-LOCATION;VALUE=URI;X-ADDRESS=Siegfriedplatz\, Rolandstra
 ße\, Bielefeld\, NRW\, 33615\, Deutschland;X-APPLE-RADIUS=100;X-TITLE=Bie
 lefeld\, Bürgerwache am Siegfriedplatz:geo:0,0
END:VEVENT
BEGIN:VTIMEZONE
TZID:Europe/Berlin
X-LIC-LOCATION:Europe/Berlin
BEGIN:STANDARD
DTSTART:20221030T020000
TZOFFSETFROM:+0200
TZOFFSETTO:+0100
TZNAME:CET
END:STANDARD
END:VTIMEZONE
END:VCALENDAR