BEGIN:VCALENDAR
VERSION:2.0
PRODID:-//wp-events-plugin.com//7.2.3.1//EN
TZID:Europe/Berlin
X-WR-TIMEZONE:Europe/Berlin
BEGIN:VEVENT
UID:3523@lilabi.net
DTSTART;TZID=Europe/Berlin:20210610T190000
DTEND;TZID=Europe/Berlin:20210610T210000
DTSTAMP:20210521T112234Z
URL:https://www.lilabi.net/events/dialektik-der-natur-entwicklung-auf-der-
 kleinsten-ebene-der-materie-vortrag-mit-janik-meisinger/
SUMMARY:Dialektik der Natur - Entwicklung auf der kleinsten Ebene der Mater
 ie: Vortrag mit Janik Meisinger
DESCRIPTION:Dialektik der Natur - Entwicklung auf der kleinsten Ebene der M
 aterie: Vortrag mit Janik Meisinger\n\nLaut Friedrich Engels ist die diale
 ktische Methode nur Reflex der dialektischen Vorgänge\, die sich in der N
 atur vollziehen. In seinem nicht vollendeten Werk "Dialektik der Natur" ve
 rsucht er diese Vorgänge zu systematisieren und Zusammenhänge zu der sub
 jektiven Dialektik von Hegel und Marx zu finden. Jedoch ist dieser Versuch
  wegen mangelndem naturwissenschaftlichen Erkenntnisstand im 19. Jahrhunde
 rt nur ein teilweiser Erfolg.\nMit einem Verständnis der Grundlagen der T
 hermodynamik ist es nun aber möglich die Gesetze\, aber auch die Ursache 
 der Entwicklung der Natur zu beschreiben. Warum die immerwährende Weitere
 ntwicklung der Gesellschaft keine moralische Entscheidung ist\, sondern ei
 ne physikalische Notwendigkeit ist\, soll in diesem Vortrag erklärt werde
 n.\n\nThema: Dialektik der Natur - Entwicklung auf der kleinsten Ebene der
  Materie: Vortrag mit Janik Meisinger\nUhrzeit: 10.Juni.2021 07:00 PM Amst
 erdam\, Berlin\, Rom\, Stockholm\, Wien\n\nZoom-Meeting beitreten\nhttps:/
 /uni-bielefeld.zoom.us/j/99588382089?pwd=SzRiN1krZ2dwSWh0cGJzY3Z3amdaQT09\
 n\nMeeting-ID: 995 8838 2089\nPasswort: 245138
CATEGORIES:Vortrag
END:VEVENT
BEGIN:VTIMEZONE
TZID:Europe/Berlin
X-LIC-LOCATION:Europe/Berlin
BEGIN:DAYLIGHT
DTSTART:20210328T030000
TZOFFSETFROM:+0100
TZOFFSETTO:+0200
TZNAME:CEST
END:DAYLIGHT
END:VTIMEZONE
END:VCALENDAR