BEGIN:VCALENDAR
VERSION:2.0
PRODID:-//wp-events-plugin.com//7.2.3.1//EN
TZID:Europe/Berlin
X-WR-TIMEZONE:Europe/Berlin
BEGIN:VEVENT
UID:3459@lilabi.net
DTSTART;TZID=Europe/Berlin;VALUE=DATE:20201223
DTEND;TZID=Europe/Berlin;VALUE=DATE:20210101
DTSTAMP:20201119T181042Z
URL:https://www.lilabi.net/events/dezentrale-aktionstage-keinmachten/
SUMMARY:dezentrale Aktionstage #KEINMACHTEN
DESCRIPTION:ENGLISH BELOW...\n\n#KEINMACHTEN 2020 - dezentrale Aktiontage\n
 -keinmachten.blackblogs.org - keinmachten@riseup.net-\n\nAlle Jahre Wider.
 ..\n- KONSUMTERROR\, FAMILIENZWANG &amp\; RELIGIÖSE HEUCHELEI -\nlasst un
 s widerstehen\, uns widersetzen.\nDas Fest froh und munter in Stücke fetz
 en.\nOb Blockade\, Besetzung oder Sabotage\,\ndieses Jahr vergisst keins d
 ie “heiligen Tage”.\nTiere befrei’n\, das Patriachat zerschlagen\,\n
 Macker*innen\, Cops &amp\; Nazis jagen!\nWebsites hacken\, Wände bemalen\
 ,\nes den Kozernen heimzahlen.\nLasst uns die Lichter brennen sehen\,\ndie
  Luxusbaustellen in Schutt und Asche legen.\nGemeinsam starten wir in das 
 neue Jahr\nintersektional\, antikapitalistisch\,\nANTIFA!\n\nDas Jahr 2020
  neigt sich dem Ende zu\, doch dieses Jahr steht weder der\nWeihnachtsmann
  [in Corona Quarantäne] noch das Christkind [erschossen an\nder EU-Außen
 grenze von Horst Seehofer] vor der Tür. Wir rufen auf zu den\ndezentralen
  Aktionstagen #KEINMACHTEN.\n 2020 was ein Jahr…\nIn diesem Jahr wollten
  wir uprisen\, doch das einzige\, was anstieg\, waren\ndie Covid-19 Infekt
 ionszahlen &amp\; ihre selbsternannten Gegner*innen - das\nneue Laufvolk d
 er Faschist*innen\, die Zahlen der geräumten Projekte\,\nabgerissenen ode
 r Luxus-sanierten Leerstände &amp\; der rassistisch\nmotivierten Übergri
 ffe. Die BRD schloß Datteln4 an’s Netz &amp\; der Support\nfür Atomkra
 ft rückt von rechts immer weiter in die Mitte der\nGesellschaft. Der Viru
 s bringt neben Aluhüten auch Überwachung\,\nDigitalisierung &amp\; die a
 llgemeine Ausweitung des Repressionsapparates mit\nsich.\nPositivere Seite
 n sind die Entstehung zahlreicher selbstorganisierter\nNachbar*innenschaft
 shilfen\, Spontanität &amp\; Organisierung in dezentralen\nKleingruppen. 
 Es gab auch etliche vereinzelte aber auch kollektive\nAufstände\, Eingrif
 fe in die rostigen Zahnräder des Spätkapitalismus und\nauch die schmerzl
 ichen Räumungen musste der Staat teuer bezahlen. Die\nAufruhr gegen die F
 leischindustrie erreichte durch Corona einen Höhepunkt.\nSchon im letzten
  Jahr riefen die Aktionstage #KEINMACHTEN dazu auf\,\ndiesen ritualisierte
 n Höhepunkt des westlichen Kapitalismus zu stören.\nIn Bochum wurde die 
 Zufahrt eines der größten Shopping-Center Europas\nbesetzt. In Münster 
 und Umgebung wurden die Heiligen drei Könige\ngeklaut\, um auf die unmens
 chlichen Verhältnisse in den\n“Flüchtlingslagern” an den europäisch
 en Außengrenzen aufmerksam zu\nmachen. In Dresden und Dortmund wurde ein 
 #KEINMACHTS Chillen für Leute\,\ndie keine Lust auf Xmas\, Family oder al
 leine sein haben\, organisiert.\nWas ihr macht\, entscheidet ihr selbst. O
 rganisiert euch. Macht\, was ihr\nfür sinnvoll haltet oder was ihr schon 
 immer mal machen wolltet. Seid\nkreativ\, widerständig und passt aufeinan
 der auf!\nUnter dem Hashtag #KEINMACHTEN können die Aktionen zusammengef
 ührt\nwerden und so die Verkreuzungen verschiedener gesellschaftlicher\nP
 robleme darstzellen. Wir wollen am Ende des Jahres keine Kerzen\,\nsondern
  den Kapitalismus brennen sehen – Wäre das nicht ein wirkliches\nFest?\
 nAnlässlich der Aktionstage wurden bereits verschiedene Plakate erstellt\
 ,\nderen Design gerne verwendet werden können!\nWir freuen uns auf die Fe
 sttage. Auf viele bunte\, widerständige und\nkreative Aktionen!\n\n------
 --\nMehr zu den Aktionstagen unter keinmachten.blackblogs.org oder schreib
 t\nuns an keinmachten@riseup.net!\n--------\n\n\n\n\nENGLISH VERSION:\n\n#
 KEINMACHTEN 2020 - decentral action days\n-keinmachten@riseup.net - keinma
 chten@riseup.net-\n\nEvery year...\n- CONSUMER TERROR\, FAMILY PRESSURE &a
 mp\; RELIGIOUS HYPOCRISY -\nlet us resist and push back\,\nTear the feast 
 to shreds joyfully and cheerfully.\nWhether blockade\, occupation or sabot
 age\,\nthis year nobody forgets the "holy days".\nLiberate animals\, smash
  the patriarchy\,\nhunt machos\, cops &amp\; Nazis!\nHacking websites\, pa
 inting walls\,\npay it back to the corporations.\nLet's see the lights com
 e on\,\nthe luxury buildings in dust and ashes.\nTogether we start into th
 e new year\nintersectional\, anti-capitalist\,\nAFA!\n\n\nThe year 2020 is
  coming to an end\, but this year neither Santa Claus who\nis in covid19 q
 uarantine nor the Christkind who was shot at the European\nborder by Horst
  Seehofer is coming to town. We want to announce the\nsecond year of decen
 tral action days #KEINMACHTEN.\n 2020 what a year…\nBy 2020 we wanted to
  rise up\, but the only thing that has risen\, has\nbeen the Covid-19 infe
 ction rate &amp\; its’ self proclaimed enemies – under\nthe influence 
 of fascists\, the number of evicted projects\, the number of\ndemolished o
 r luxurious-renovated vacancies &amp\; the number of racist\nmotivated att
 acks. The German state connected the illegally built hard\ncoal power plan
 t Datteln4 to the power supply  and nuclear energy is\ngetting more and mo
 re popular in the mainstream . The virus has brought\nus not only “Aluh
 üte” but also surveillance\, digitalization &amp\; the\ngeneral expansi
 on of the repression system.\nMore positive side effects of the virus have
  been the creation of plenty\nself-organized solidarity projects among nei
 ghborhoods\, spontaneity and\ndecentral organization in affinity groups. T
 here have also been plenty\nof riots and interventions into the rusty gear
 s of late stage\ncapitalism. The anger against the meat industry has also 
 risen  in times\nof corona.\nIn 2019 the action days #KEINMACHTEN also too
 k place and called to\ndisturb the ritualized climax of western capitalism
 . In Bochum\, one of\nthe biggest shopping centers in Europe was blocked. 
 In Münster\, the\nThree Wise Men were stolen from churches to draw attent
 ion to the\ninhumane conditions in refugee camps at European borders. In D
 resden and\nDortmund\, there were alternative #KEINMACHTS hang-outs for pe
 ople who\nare excluded by Xmas-traditions .\nYou decide what you want to d
 o. Organize yourself. Do what you think is\na good idea or what you’ve a
 lways wanted to do. Be creative\, resistant\nand take care of each other!\
 nUnder the hashtag #KEINMACHTEN you can post your actions. We don’t want
 \nto burn candles at the end of the year – we want to burn capitalism!\n
 Wouldn’t that be a holy night?\nSome designs and graphics have already b
 een published\, feel free to use\nthem!\nWe are looking forward to the fes
 tivities and many colorful\, resistant\nand creative actions!\n\n---------
 \nMore about the action days: keinmachten.blackblogs.org or write us an\ne
 -mail: keinmachten@riseup.net !\n---------\n
CATEGORIES:Aktionstage
END:VEVENT
BEGIN:VTIMEZONE
TZID:Europe/Berlin
X-LIC-LOCATION:Europe/Berlin
BEGIN:STANDARD
DTSTART:20201025T020000
TZOFFSETFROM:+0200
TZOFFSETTO:+0100
TZNAME:CET
END:STANDARD
END:VTIMEZONE
END:VCALENDAR