BEGIN:VCALENDAR
VERSION:2.0
PRODID:-//wp-events-plugin.com//7.2.3.1//EN
TZID:Europe/Berlin
X-WR-TIMEZONE:Europe/Berlin
BEGIN:VEVENT
UID:4492@lilabi.net
DTSTART;TZID=Europe/Berlin:20221223T183000
DTEND;TZID=Europe/Berlin:20221223T234500
DTSTAMP:20221216T154122Z
URL:https://www.lilabi.net/events/deutschland-als-einwanderungsland-gegenw
 art-und-zukunft-von-flucht-und-vertreibung/
SUMMARY:Deutschland als Einwanderungsland – Gegenwart und Zukunft von Flu
 cht und Vertreibung
DESCRIPTION:Liebe Alle\,\n\nwir würden euch gerne zu unserem Podiumsgespr
 äch „Deutschland als Einwanderungsland – Gegenwart und Zukunft von Fl
 ucht und Vertreibung“ am 23.12. um 19:00 Uhr im Nr.z.P. einladen.\n\nMit
  Expert:innen verschiedener Organisationen\, die zu den Themen Flucht und 
 Migration arbeiten\, wollen wir unter anderem über Fluchtgründe\, Asylve
 rfahren\, No-Border-Kämpfe und das Aufnahmeprogramm Afghanistan diskutier
 en. Wie verändert die Klimakrise Flucht? Welche rechtlichen Schritte gibt
  es bei einem Asylverfahren? Wie unterscheiden sich verschiedene Aufnahmep
 rogramme?\n\nAls Expert:innen haben wir Noor von der Seebrücke aus Bielef
 eld\, Tobias Reher vom AK Asyl e.V.\, Tahsin Mirza von Demokratie Leben un
 d Shams eingeladen.\nModeriert wird der Abend von Lua Mariell Barros Heckm
 anns und Samia Mohammed.\nDie Diskussion findet auf Deutsch statt.\n\nWir 
 freuen uns wenn ihr zahlreich erscheint!\nFalls ihr Fragen habt die ihr ge
 rne diskutiert haben möchtet\, schreibt sie uns gerne im Vorhinein!\n\nUm
  den Abend abzuschließen wird es nach dem Podiumsgespräch ab circa 21:00
  Uhr Musik von der wunderbaren TRU:L geben:\n\nTRU:L is a Romanian-born\, 
 Berlin-based Dj and promoter\, organizing dancing events like "Smoothin Gr
 oovin" and "Vida Nocturna" with the intention of uniting people through ni
 ghtlife music - all with a feel-good &amp\; soulful vibe at its core. She 
 is curating a mosaic of sounds for this special celebration\, so get ready
  for a sonic trip all around the world.\n\nHier könnt ihr Mixe von ihr h
 ören: https://linktr.ee/TRU_L\n\nWir freuen uns auf euch &lt\;3
CATEGORIES:Diskussion,Musik
LOCATION:Nr. z. P.\, Große Kurfürstenstraße 81\, Bielefeld\, Deutschland
X-APPLE-STRUCTURED-LOCATION;VALUE=URI;X-ADDRESS=Große Kurfürstenstraße 8
 1\, Bielefeld\, Deutschland;X-APPLE-RADIUS=100;X-TITLE=Nr. z. P.:geo:0,0
END:VEVENT
BEGIN:VTIMEZONE
TZID:Europe/Berlin
X-LIC-LOCATION:Europe/Berlin
BEGIN:STANDARD
DTSTART:20221030T020000
TZOFFSETFROM:+0200
TZOFFSETTO:+0100
TZNAME:CET
END:STANDARD
END:VTIMEZONE
END:VCALENDAR