BEGIN:VCALENDAR
VERSION:2.0
PRODID:-//wp-events-plugin.com//7.2.3.1//EN
TZID:Europe/Berlin
X-WR-TIMEZONE:Europe/Berlin
BEGIN:VEVENT
UID:4365@lilabi.net
DTSTART;TZID=Europe/Berlin:20220813T190000
DTEND;TZID=Europe/Berlin:20220813T230000
DTSTAMP:20220718T170400Z
URL:https://www.lilabi.net/events/deutsche-laichen-kenny-kenny-oh-oh-wrack
 spurts/
SUMMARY:DEUTSCHE LAICHEN + KENNY KENNY OH OH + WRACKSPURTS
DESCRIPTION:DEUTSCHE LAICHEN [FEMINIST PUNK]\nhttps://deutschelaichen.bandc
 amp.com/\n\nKENNY KENNY OH OH [PUNK]\nhttps://kennykennyohoh.bandcamp.com/
 \n\nWRACKSPURTS [90er-GRUNGE-KITSCH]\nhttps://wrackspurts.bandcamp.com/\n\
 n19:00 Uhr Einlass | Beginn 20:00 Uhr\n\nMacht einen Test vorher + bei Cor
 ona-Typischen Symptomen bleibt bitte zuhause.\n\nWir freuen uns auf euch!!
 !\n\nNo Racism * No Fascism * No Sexism * No Ableism * No Hostility agains
 t LGBTQIA+ * No Antisemitism * No Conspiracy Bullshit
ATTACH;FMTTYPE=image/jpeg:https://www.lilabi.net/wp-content/uploads/2022/0
 7/1013_deutschelaichenuso.jpg
CATEGORIES:Konzert
LOCATION:AJZ Bielefeld\, Heeper Str. 132\, 33607 Bielefeld\, Deutschland
X-APPLE-STRUCTURED-LOCATION;VALUE=URI;X-ADDRESS=Heeper Str. 132\, 33607 Bie
 lefeld\, Deutschland;X-APPLE-RADIUS=100;X-TITLE=AJZ Bielefeld:geo:0,0
END:VEVENT
BEGIN:VTIMEZONE
TZID:Europe/Berlin
X-LIC-LOCATION:Europe/Berlin
BEGIN:DAYLIGHT
DTSTART:20220327T030000
TZOFFSETFROM:+0100
TZOFFSETTO:+0200
TZNAME:CEST
END:DAYLIGHT
END:VTIMEZONE
END:VCALENDAR