BEGIN:VCALENDAR
VERSION:2.0
PRODID:-//wp-events-plugin.com//7.2.3.1//EN
TZID:Europe/Berlin
X-WR-TIMEZONE:Europe/Berlin
BEGIN:VEVENT
UID:4301@lilabi.net
DTSTART;TZID=Europe/Berlin:20220614T180000
DTEND;TZID=Europe/Berlin:20220614T200000
DTSTAMP:20220612T113834Z
URL:https://www.lilabi.net/events/der-ukrainekrieg-und-die-gewalt-der-frie
 densordnung/
SUMMARY:Der Ukrainekrieg und die Gewalt der Friedensordnung
DESCRIPTION:Es ist erstaunlich\, wie friedlich die Welt seit Russlands Angr
 iff auf die Ukraine auf einmal gewesen sein will. Alle schwatzen von „un
 vorstellbaren Ereignissen“ und phantasieren eine pazifistische Grundstim
 mung herbei\, in der „wir“ uns in der Vergangenheit gemütlich eingeri
 chtet hätten und die sich nun als trügerisch erwiesen habe. Ein Crashkur
 s Friedensmilitarismus folgte und wurde mit Bestnoten absolviert.\n\nNicht
  weniger erstaunlich scheint daher\, dass der Krieg den Realitätsverlust 
 gerade der Linken provoziert hat\, die die Welt nach dem Kalten Krieg nich
 t für friedlich gehalten hat. Allerdings hat sie dieser Weltordnung zuneh
 mend begriffslos gegenüber gestanden und immer zwanghafter versucht\, das
  Gewaltpotential der internationalen Ordnung des Kapitals allein in Expans
 ionsabsichten des „imperialistischen Westens“ dingfest zu machen. Ganz
  so\, also als gäbe es noch irgendwelche Flecken dieser Erde\, auf die si
 ch das Kapital noch ausbreiten könnte. Versuche\, die gesellschaftliche G
 ewalt anders als in stereotypen antiimperialistischen Kategorien zu begrei
 fen\, gab es hingegen selten\, und sie haben auch keinen bleibenden Eindru
 ck hinterlassen. Dementsprechend orientierungslos rettet die Linke sich n
 un wahlweise in den hiesigen Friedensmilitaismus oder klammert sich direkt
  an die russischen Opfermythen.\n\nDagegen wird der Kapitalismus im Vortra
 g so skizziert werden\, dass dasim 1. Weltkrieg vollzogene Ende der imperi
 alistischen Epoche nicht als das Ende der Geschichte erscheint\, das seith
 er immer nur wiederholt\nwird.
CATEGORIES:Vortrag
LOCATION:Universität Bielefeld H8\, Universitätsstraße 25\, Bielefeld\, 
 Deutschland
X-APPLE-STRUCTURED-LOCATION;VALUE=URI;X-ADDRESS=Universitätsstraße 25\, B
 ielefeld\, Deutschland;X-APPLE-RADIUS=100;X-TITLE=Universität Bielefeld H
 8:geo:0,0
END:VEVENT
BEGIN:VTIMEZONE
TZID:Europe/Berlin
X-LIC-LOCATION:Europe/Berlin
BEGIN:DAYLIGHT
DTSTART:20220327T030000
TZOFFSETFROM:+0100
TZOFFSETTO:+0200
TZNAME:CEST
END:DAYLIGHT
END:VTIMEZONE
END:VCALENDAR