BEGIN:VCALENDAR
VERSION:2.0
PRODID:-//wp-events-plugin.com//7.2.3.1//EN
TZID:Europe/Berlin
X-WR-TIMEZONE:Europe/Berlin
BEGIN:VEVENT
UID:3723@lilabi.net
DTSTART;TZID=Europe/Berlin:20220615T190000
DTEND;TZID=Europe/Berlin:20220615T210000
DTSTAMP:20220527T151638Z
URL:https://www.lilabi.net/events/der-tuerkische-autoritaere-neoliberalism
 us-und-die-rolle-der-linken-der-arbeiterbewegung-und-der-kurdischen-bewegu
 ng-in-der-tuerkei/
SUMMARY:Der türkische autoritäre Neoliberalismus und die Rolle der Linken
 \, der Arbeiterbewegung und der kurdischen Bewegung in der Türkei
DESCRIPTION:Der türkische autoritäre Neoliberalismus und die Rolle der Li
 nken\, der Arbeiterbewegung und der kurdischen Bewegung in der Türkei\n\n
 mit Murat Cakir\, Kassel                         
        Seit der Parlamentswahl 2015 und erst recht nach dem vom Erdo
 gan-Regime sogenannten Putsch der Gülen-Bewegung in 2016 scheint die Zent
 ralisierung der politischen Macht und das Islamisierungsprojekt der AKP-Re
 gierung nicht mehr zu stoppen zu sein. Zudem forderte der erbarmungslose v
 ölkerrechtswidrige militärische Feldzug gegen kurdische Städte und Dör
 fer und gegen die kurdische Bewegung in den letzten Jahren zahllose Opfer.
  Zigtausende sitzen in den Gefängnissen\, wurden aus ihren Städten und D
 örfern vertrieben.\n\nBei der deutschen emanzipatorischen Linken hat das 
 kurdische Autonomiemodell in Rojava viele Sympathien. Kollektives Eigentum
  und Rätestrukturen\, der geänderte Status der Frauen\, all das hat eine
  beträchtliche Ausstrahlung auf die internationalistische Linke entfaltet
 . Innerhalb der traditionell zersplitterten türkischen Linken sind die Wi
 dersprüche zu diesem erst vor ca. 10 Jahren erfolgten Paradigmenwechsel d
 er kurdischen Bewegung allerdings zahlreich – bei aller Solidarität bez
 üglich der brutalen Übergriffe des Staates. Für sie bestimmen eher die 
 soziale Frage und die Folgen der immer schwieriger werdenden ökonomische 
 Situation den politischen Alltag. Durch viele Streiks und Manifestationen 
 macht sich die Arbeiterbewegung und die Linke zur Zeit bemerkbar. Die anha
 ltende Repression durch die Institutionen des Staates und militante rechte
  Gruppen bestimmen den Kampf.\n\nWelche Möglichkeiten hat die Linke heute
  in der Türkei? Wie sind die politischen Kräfteverhältnisse und Möglic
 hkeiten? Welche Rolle kann dabei das kurdische Selbstverwaltungsprojekt sp
 ielen? Was ist zu erwarten\, was wären politische Alternativen?  Das sin
 d Fragen zu denen der sachkundige und seit langem publizistisch tätige Re
 ferent Stellung nehmen wird.\n\nMurat Cakir ist in der Türkei geboren\, l
 ebt seit vielen Jahren in Deutschland und ist publizistisch zu Geschichte 
 und Politik der Türkei tätig. Seit 2009 ist er Mitarbeiter der Rosa Luxe
 mburg Stiftung.\n\nEintritt frei            - Veranstalter: Ros
 a Luxemburg Club Bielefeld - in Kooperation mit: Rote Hilfe e.V. Ortsgrupp
 e Bielefeld - mit freundlicher Unterstützung der Rosa Luxemburg Stiftung 
 NRW e.V.
CATEGORIES:Diskussion
LOCATION:Bürger*innenwache Siegfriedplatz\, Rolandstr. 16\, 33615 Bielefel
 d\, Deutschland
X-APPLE-STRUCTURED-LOCATION;VALUE=URI;X-ADDRESS=Rolandstr. 16\, 33615 Biele
 feld\, Deutschland;X-APPLE-RADIUS=100;X-TITLE=Bürger*innenwache Siegfried
 platz:geo:0,0
END:VEVENT
BEGIN:VTIMEZONE
TZID:Europe/Berlin
X-LIC-LOCATION:Europe/Berlin
BEGIN:DAYLIGHT
DTSTART:20220327T030000
TZOFFSETFROM:+0100
TZOFFSETTO:+0200
TZNAME:CEST
END:DAYLIGHT
END:VTIMEZONE
END:VCALENDAR