BEGIN:VCALENDAR
VERSION:2.0
PRODID:-//wp-events-plugin.com//7.2.3.1//EN
TZID:Europe/Berlin
X-WR-TIMEZONE:Europe/Berlin
BEGIN:VEVENT
UID:4479@lilabi.net
DTSTART;TZID=Europe/Berlin:20221130T170000
DTEND;TZID=Europe/Berlin:20221130T190000
DTSTAMP:20221130T131942Z
URL:https://www.lilabi.net/events/demonstration-gegen-tuerkischen-angriffs
 krieg/
SUMMARY:Demonstration gegen türkischen Angriffskrieg
DESCRIPTION:Wir demonstrieren mit dem Bündnis Demokratischer Kräfte OWL z
 udem gegen die Chemiewaffeneinsätze der Türkei in Südkurdistan (Nordira
 k)\, die militärische Gewalt und Repression gegen Protestierende im Iran 
 und der politische Vernichtungsfeldzug der AKP-MHP-Regierung gegen die dem
 okratische Partei der Völker HDP und Oppositionelle in der Türkei und in
  Nordkurdistan.
CATEGORIES:Demo
LOCATION:Bielefeld Hauptbahnhof\, Am Bahnhof 1\, Bielefeld\, NRW\, Deutschl
 and
X-APPLE-STRUCTURED-LOCATION;VALUE=URI;X-ADDRESS=Am Bahnhof 1\, Bielefeld\, 
 NRW\, Deutschland;X-APPLE-RADIUS=100;X-TITLE=Bielefeld Hauptbahnhof:geo:0,
 0
END:VEVENT
BEGIN:VTIMEZONE
TZID:Europe/Berlin
X-LIC-LOCATION:Europe/Berlin
BEGIN:STANDARD
DTSTART:20221030T020000
TZOFFSETFROM:+0200
TZOFFSETTO:+0100
TZNAME:CET
END:STANDARD
END:VTIMEZONE
END:VCALENDAR