BEGIN:VCALENDAR
VERSION:2.0
PRODID:-//wp-events-plugin.com//7.2.3.1//EN
TZID:Europe/Berlin
X-WR-TIMEZONE:Europe/Berlin
BEGIN:VEVENT
UID:5588@lilabi.net
DTSTART;TZID=Europe/Berlin:20240308T180000
DTEND;TZID=Europe/Berlin:20240308T193000
DTSTAMP:20240304T125333Z
URL:https://www.lilabi.net/events/demo-heraus-zum-8-maerz/
SUMMARY:Demo - Heraus zum 8. März!
DESCRIPTION:Heraus zum 8. März! \nSeit 1921 gehen weltweit Menschen am 8. 
 März zum internationalen feministischen Kampftag auf die Straße! Aus den
  Protesten für das Wahlrecht von Frauen ist eine Bewegung entstanden\, di
 e stark\, laut und entschlossen gegen Patriarchat und Kapitalismus kämpft
 ! \nUnsere Kämpfe sind nach wie vor vielfältig. \nWir fordern immer noch
  körperliche Selbstbestimmung\, sowie sichere und legale Möglichkeiten f
 ür Schwangerschaftsabbrüche. Während stärker werdende konservative und
  rechte Bewegungen die erkämpften Rechte zerstampfen\, werden emanzipator
 ische Bewegungen immer flächendeckender kriminalisiert. Weg mit § 218\, 
 weg mit der Kriminalisierung von Abtreibungen! Her mit der Sicherstellung 
 des freien\, zuverlässigen und sicheren Zugangs zu Schwangerschaftsabbrü
 chen für Alle\, sowie freiem Zugang zu geschlechtergerechteren Verhütung
 smitteln.\nEin Erfolg von trans*\, inter* und nicht-binären Aktivist*inne
 n und ihren Verbündeten ist die längst überfällige Abschaffung des sog
 enannten “Transsexuellengesetzes“. Auch\, dass ein Stück mehr Selbstb
 estimmung hinsichtlich des eigenen Geschlechts endlich in Aussicht steht. 
 Es fehlen jedoch Maßnahmen gegen transfeindliche Gewalt. \nWir halten fes
 t: Unser Feminismus ist transinklusiv! \nJeden dritten Tag wird in Deutsch
 land eine Frau von ihrem (Ex-)Partner getötet. Diese Femizide werden meis
 t als “Beziehungstat“ oder ”Verzweiflungstat“ entpolitisiert. Im v
 ergangenen Jahr wurde eine junge Frau in Bielefeld von ihrem Kollegen get
 ötet\, sein Grund: Sie hatte ihn zurückgewiesen.\nPatriarchale Gewalt ze
 igt sich überall. Die Institution Bethel hat über Jahre hinweg sexuellen
  Missbrauch und sexualisierte Gewalt eines Arztes an Patientinnen vertusch
 t und ganz aktiv Täterschutz betrieben. Die Beteiligten erfahren nach wie
  vor keine Konsequenzen\, außer die Betroffenen\, die von allen Seiten al
 lein gelassen werden - Auf Polizei und Staat ist auch hier kein Verlass!\n
 Volle Solidarität mit allen Betroffenen sexualisierter Gewalt!​​​
 ​​​​​​​​​​​​​​​​​​\nGlobal gesehen spi
 elt patriarchale Gewalt in jedem Kriegsgeschehen eine Rolle. Sexualisierte
  Gewalt ist nach wie vor ein verbreitetes Kriegs- und Propagandamittel. Un
 sere Solidarität gilt allen Zivilist*innen\, die von Kriegen betroffen si
 nd\, und den weltweiten feministischen Kämpfen. \nDie Kämpfe um geschlec
 htliche und körperliche Selbstbestimmung interessieren hierzulande in Med
 ien und Politik nur\, wenn es um ein Land geht\, an dem geopolitische Inte
 ressen bestehen. Während sich die Bundesrepublik als Vorreiterin einer so
 genannten “feministischen Außenpolitik” inszeniert\, wird das Asylrec
 ht weiter verschärft\, feministische Freiheitsbewegungen kriminalisiert u
 nd mit autokratischen Systemen wirtschaftlich und politisch kooperiert. \n
 Organisieren wir uns gemeinsam gegen patriarchale\, queer- und transfeindl
 iche Gewalt!\nLasst uns gemeinsam gegen diese Scheiße\, gegen Patriarchat
  und Kapitalismus und für ein solidarisches Miteinander auf die Straße g
 ehen! \n\nDemoroute\n18 Uhr am Rathaus (Kundgebung) - über Rathausstraße
  zum Theater am alten Markt - über Niedernstraße zum Jahnplatz (Kundgebu
 ng) - über Bahnhofstraße und Arndtstraße zum Emil-Groß Platz/Moccaklat
 sch (Kundgebung) - über Mindener Str.\, Jöllenbecker Str. und Bahnhofstr
 . zum Hauptbahnhof (Kundgebung)\nfrauenqueerstreikbielefeld.noblogs.org/\n
 \ninstagram.com/feministischkaempfen.bi/
ATTACH;FMTTYPE=image/jpeg:https://www.lilabi.net/wp-content/uploads/2024/0
 3/Plakat-8M24-LiLaBi.jpg
CATEGORIES:Demo
LOCATION:Altes Rathaus\, Niederwall 27\, 33602 Bielefeld\, Deutschland
X-APPLE-STRUCTURED-LOCATION;VALUE=URI;X-ADDRESS=Niederwall 27\, 33602 Biele
 feld\, Deutschland;X-APPLE-RADIUS=100;X-TITLE=Altes Rathaus:geo:0,0
END:VEVENT
BEGIN:VTIMEZONE
TZID:Europe/Berlin
X-LIC-LOCATION:Europe/Berlin
BEGIN:STANDARD
DTSTART:20231029T020000
TZOFFSETFROM:+0200
TZOFFSETTO:+0100
TZNAME:CET
END:STANDARD
END:VTIMEZONE
END:VCALENDAR