BEGIN:VCALENDAR
VERSION:2.0
PRODID:-//wp-events-plugin.com//7.2.3.1//EN
TZID:Europe/Berlin
X-WR-TIMEZONE:Europe/Berlin
BEGIN:VEVENT
UID:3458@lilabi.net
DTSTART;TZID=Europe/Berlin:20201114T150000
DTEND;TZID=Europe/Berlin:20201114T180000
DTSTAMP:20201112T225414Z
URL:https://www.lilabi.net/events/demo-gegen-rassistische-gewalt/
SUMMARY:Demo gegen rassistische Gewalt
DESCRIPTION:TRIGGERWARNUNG: Im folgenden Beitrag wird Gewalt beschrieben.\n
 \nEin 19-jähriger Freund von uns wurde gestern Abend in Bielefeld beim Jo
 ggen von einer Gruppe Nazis mit einem Messer angegriffen und bewusstlos ge
 prügelt. Die Verletzungen sind deutlich sichtbar: Schnittwunden und ein e
 ingeritztes Hakenkreuz auf seiner Brust.\n\nAls Polizist:innen ins Kranken
 haus kamen\, verdächtigten sie unseren Freund\, sich das Hakenkreuz selbs
 t in die Brust geritzt zu haben. Er wurde außerdem verdächtigt\, krimine
 ll zu sein und Waffen zu besitzen. Daraufhin durchsuchte die Polizei sein 
 Haus – und fand selbstverständlich nichts. Bei der Hausdurchsuchung sag
 te ein Polizist seinem Vater: „Wenn ihr Sohn lügt\, wird Ihre ganze Fam
 ilie abgeschoben!“ Es handelt sich um eine Familie\, die aus dem Iran na
 ch Deutschland geflohen ist.\n\nWir sind in diesen Tagen in Gedanken bei u
 nserem Freund. Wir sind bestürzt darüber\, was er erleiden muss. Wir sin
 d entsetzt über das Verhalten der Polizei. Und wir sind wütend\, dass di
 eses Verbrechen passieren konnte.\n\nDeshalb werden wir am Samstag unsere 
 Solidarität und unsere Wut auf die Straße tragen!\n\nWir fordern eine sc
 hnelle und lückenlose Aufklärung des Nazi-Anschlags.\n\nWir fordern Kons
 equenzen für das rassistische Verhalten der Polizist:innen und eine öffe
 ntliche Stellungnahme und Entschuldigung der Polizei.\n\nLasst uns gemeins
 am lautstark für diese Forderungen demonstrieren. Gegen rassistische Gewa
 lt\, gegen Nazi-Verbrechen und Rassismus innerhalb der Polizei.\n\nSa\, 14
 . November\, 15 Uhr\, Hbf Bielefeld (Demo endet am Kesselbrink)
ATTACH;FMTTYPE=image/jpeg:https://www.lilabi.net/wp-content/uploads/2020/1
 1/photo5291776296155721389.jpg
CATEGORIES:Demo
LOCATION:Bielefeld HBF\, Am Bahnhof 1b\, Bielefeld\, Deutschland
X-APPLE-STRUCTURED-LOCATION;VALUE=URI;X-ADDRESS=Am Bahnhof 1b\, Bielefeld\,
  Deutschland;X-APPLE-RADIUS=100;X-TITLE=Bielefeld HBF:geo:0,0
END:VEVENT
BEGIN:VTIMEZONE
TZID:Europe/Berlin
X-LIC-LOCATION:Europe/Berlin
BEGIN:STANDARD
DTSTART:20201025T020000
TZOFFSETFROM:+0200
TZOFFSETTO:+0100
TZNAME:CET
END:STANDARD
END:VTIMEZONE
END:VCALENDAR