BEGIN:VCALENDAR
VERSION:2.0
PRODID:-//wp-events-plugin.com//7.2.3.1//EN
TZID:Europe/Berlin
X-WR-TIMEZONE:Europe/Berlin
BEGIN:VEVENT
UID:5865@lilabi.net
DTSTART;TZID=Europe/Berlin:20250207T170000
DTEND;TZID=Europe/Berlin:20250207T200000
DTSTAMP:20250122T133309Z
URL:https://www.lilabi.net/events/demo-achtung-gefahr-von-rechtsaussen-kei
 ne-stimme-fuer-die-extreme-rechte/
SUMMARY:Demo: "Achtung - Gefahr von Rechtsaußen – Keine Stimme für die 
 extreme Rechte"
DESCRIPTION:https://bielefeldstelltsichquer.wordpress.com/2025/01/17/keine-
 stimme-fur-die-extreme-rechte/\n\nAchtung - Gefahr von Rechtsaußen – Ke
 ine Stimme für die extreme Rechte\nDemonstration Freitag 07.02.25 17:00 U
 hr Jahnplatz \n\nDie extreme Rechte ist eine Gefahr für unsere Freiheit u
 nd den Zusammenhalt der Gesellschaft. Alle\, die nicht ihrem überkommenen
  Frauen- und Familienbild entsprechen\, sollen an den Rand gedrängt werde
 n. Soziale Sicherungen will sie abschaffen. Sie spaltet die Gesellschaft u
 nd hetzt die Menschen gegeneinander auf. Wir sind aber darauf angewiesen\,
  uns gegenseitig zu helfen. Menschen mit Migrationshintergrund erklärt di
 e extreme Rechte zu Sündenböcken für soziale Probleme und will sie des 
 Landes verweisen. Etwa 40 Prozent der Menschen in Bielefeld haben einen Mi
 grationshintergrund\, die meisten mit deutschem Pass. Dadurch würden Mens
 chen ihrer Zukunft beraubt\, Familien\, Freundeskreise und Nachbarschaften
  auseinandergerissen. In Bielefeld marschieren Monat für Monat mehrere hu
 ndert Neonazis\, Reichsbürger und Verschwörungsgläubige durch die Stadt
 . Durch Fahnen mit Friedenstauben und Lichterketten in der dunklen Jahresz
 eit zeigen sie ein vermeintlich harmloses Erscheinungsbild. Aber: Auf Tran
 sparenten mit dem Unwort der „Remigration“ fordern sie die Vertreibung
  unserer Nachbarinnen und Kollegen. Entlang der Themen der AfD heizen die 
 Redner dem Publikum ein oder lassen Politiker der Partei gleich selbst dor
 t reden. Hinter den Veranstaltungen steht die Gruppe „Bielefeld steht au
 f“. Auf deren Internetpräsenz werden täglich rassistische und antisemi
 tische Ressentiments und extrem rechte Verschwörungsmythen verbreitet. Ob
  Wohnungsnot\, Klimawandel\, Armut oder soziale Ungleichheit\, es gibt vie
 le Probleme in unserem Land. Aber sie werden nicht durch das Anheizen von 
 Hass\, Neid und Gewalt gelöst. Dazu braucht es Engagement\, Zusammenhalt 
 und Solidarität. Dafür gehen wir in Bielefeld auf die Straße.\n\nSpende
 n: Evangelischer Kirchenkreis Bielefeld\; DE42350601902006699068\;\n\nVerw
 endungszweck: Bündnis gegen Rechts VisdP: Bielefelder Bündnis gegen Rech
 ts\, Markgrafenstr. 7 Bielefeld
ATTACH;FMTTYPE=image/jpeg:https://www.lilabi.net/wp-content/uploads/2025/0
 1/bafkreidnb56ype4z2zfbu33vbbslffn53mgochduu3fhdhxkm2pknjakhi.jpg
CATEGORIES:Demo
LOCATION:Jahnplatz\, Jahnplatz\, Bielefeld\, 33602\, Deutschland
X-APPLE-STRUCTURED-LOCATION;VALUE=URI;X-ADDRESS=Jahnplatz\, Bielefeld\, 336
 02\, Deutschland;X-APPLE-RADIUS=100;X-TITLE=Jahnplatz:geo:0,0
END:VEVENT
BEGIN:VTIMEZONE
TZID:Europe/Berlin
X-LIC-LOCATION:Europe/Berlin
BEGIN:STANDARD
DTSTART:20241027T020000
TZOFFSETFROM:+0200
TZOFFSETTO:+0100
TZNAME:CET
END:STANDARD
END:VTIMEZONE
END:VCALENDAR