BEGIN:VCALENDAR
VERSION:2.0
PRODID:-//wp-events-plugin.com//7.2.3.1//EN
TZID:Europe/Berlin
X-WR-TIMEZONE:Europe/Berlin
BEGIN:VEVENT
UID:4650@lilabi.net
DTSTART;TZID=Europe/Berlin:20230219T150000
DTEND;TZID=Europe/Berlin:20230219T173000
DTSTAMP:20230212T173312Z
URL:https://www.lilabi.net/events/demo-19-februar-gedenken-and-hanau/
SUMMARY:Demo 19.Februar - Gedenken and Hanau
DESCRIPTION:Am 19. Februar jährt sich der rechtsextreme Terroranschlag von
  Hanau zum dritten mal. Bei diesem  Anschlag wurden Ferhat Unvar\, Merced
 es Kierpazc\, Sedat Gürbüz\, Gökhan Gültekin\, Hamza Kurtović\, Kaloy
 an Velkov\, Vili Viorel Păun\, Said Nesar Hashemi und Fatih Saraçoğlu v
 on einem Faschisten ermordet.\n Wir wollen dieses Datum zum Anlass nehmen
  um an Sie zu erinnern und gleichzeitig Aufklärung\, Gerechtigkeit und Ko
 nsequenzen fordern. Wir rufen deswegen zur \n Demo am 19. Februar um 15.
 00 Uhr am Bielefelder Hbf auf.  \n\nDenn der Anschlag von Hanau macht de
 utlich\, dass wir Rassismus in unserer Gesellschaft aktiv bekämpfen müss
 en!\nDas strukturelle Versagen der sogenannten Sicherheitsbehörden und di
 e rechtsextremen Strukturen in der Polizei hat noch zu keiner Veränderung
  oder Konsequenzen geführt\, dabei hätte der Anschlag genauso überall p
 assieren können. Gleichzeitig beginnt die nächste rassistische Debatte u
 m die Ausschreitungen von Silvester\, die leidige Debatte um ein vermeintl
 iches Gastrecht von als „Ausländer“ markierten Menschen und die Morde
  von Polizisten an migrantisierten Menschen der letzten Monate. All das ze
 igt\, dass die Dominanzgesellschaft rein gar nichts aus Hanau gelernt hat.
  Rechter Terror beginnt nicht erst\, wenn ein Faschist mit einer Waffe los
 zieht\, um 9 Menschen umzubringen. \nRechter Terror beginnt in der Mitte 
 der Gesellschaft.  \n\nWir sagen: Hanau ist überall!  Erinnerung\, Auf
 klärung\, Gerechtigkeit und Konsequenzen!\n\n\n----English Version----\n\
 nFebruary 19th 2023 marks the third anniversary of the right-wing terroris
 t attack in Hanau. In this attack\, Ferhat Unvar\, Mercedes Kierpazc\, Sed
 at Gürbüz\, Gökhan Gültekin\, Hamza Kurtović\, Kaloyan Velkov\, Vili 
 Viorel Păun\, Said Nesar Hashemi and Fatih Saraçoğlu were murdered by a
  fascist. \nWe want to take this date as an opportunity to remember them 
 and demand accountability\, justice and consequences. We therefore call fo
 r the demo on February 19th at 15 o'clock at Bielefeld Hbf.\nThis attack i
 n Hanau makes it clear that we must actively fight racism in our society! 
 The structural failure of the so-called security authorities and the right
 -wing extremist structures within them have not led to any change or conse
 quences and yet this attack could have happened everywhere else as well.\n
 At the same time\, the next racist debates\, this time about the riots of 
 New Year's Eve and a supposed guest status of people marked as "foreigners
 " already begun in the midst of the murders of immigrant people (alternati
 ve: people on forced move) by police officers in recent months. All this s
 hows that the dominant society has learned absolutely nothing from Hanau. 
 Right-wing terror does not only begin when a fascist sets out with a gun t
 o kill 9 people. Right-wing terror begins in the middle of society. \nWe 
 say: Hanau is everywhere! Remembrance\,Accountability\, Justice and Conseq
 uences!\n
ATTACH;FMTTYPE=image/jpeg:https://www.lilabi.net/wp-content/uploads/2023/0
 2/signal-2023-02-11-174757_003.jpeg
CATEGORIES:Demo
LOCATION:Bielefeld HBF\, Am Bahnhof 1b\, Bielefeld\, Deutschland
X-APPLE-STRUCTURED-LOCATION;VALUE=URI;X-ADDRESS=Am Bahnhof 1b\, Bielefeld\,
  Deutschland;X-APPLE-RADIUS=100;X-TITLE=Bielefeld HBF:geo:0,0
END:VEVENT
BEGIN:VTIMEZONE
TZID:Europe/Berlin
X-LIC-LOCATION:Europe/Berlin
BEGIN:STANDARD
DTSTART:20221030T020000
TZOFFSETFROM:+0200
TZOFFSETTO:+0100
TZNAME:CET
END:STANDARD
END:VTIMEZONE
END:VCALENDAR