BEGIN:VCALENDAR
VERSION:2.0
PRODID:-//wp-events-plugin.com//7.2.3.1//EN
TZID:Europe/Berlin
X-WR-TIMEZONE:Europe/Berlin
BEGIN:VEVENT
UID:3678@lilabi.net
DTSTART;TZID=Europe/Berlin:20220406T180000
DTEND;TZID=Europe/Berlin:20220406T193000
DTSTAMP:20220217T150241Z
URL:https://www.lilabi.net/events/decolonize-bielefeld-karl-peters-muss-we
 g/
SUMMARY:Decolonize Bielefeld: „Karl Peters muss weg!“
DESCRIPTION:\n\nMittwoch\, 06.04.2022\, 18. - 19.30 Uhr\, online\n\n\n\n\nI
 m vergangenen Jahr trat das Bündnis Decolonize Bielefeld mit der Forderun
 g an die Öffentlichkeit\, eine Straße in Stieghorst\, die seit sechs Jah
 rzehnten den Kolonialverbrecher Karl Peters ehrt\, umzubenennen. 2008 war 
 eine entsprechende Forderung abgelehnt worden\, die Straße wurde lediglic
 h umgewidmet.\nDas Bündnis Decolonize Bielefeld fordert eine kritische Au
 farbeitung der deutschen Kolonialzeit und möchte einen Perspektivwechsel 
 einleiten. Deshalb schlägt das Bündnis vor\, die Straße nach Fatuma Eli
 sabeth zu benennen\, einem Kind aus dem östlichen Afrika\, das 1891 nach 
 Bethel gebracht wurde und dort vier Jahre später starb.\nAber wer war eig
 entlich Karl Peters und warum sollte nach ihm keine Straße mehr benannt s
 ein? Und wer war Fatuma Elisabeth?\nIn dieser Veranstaltung möchte das B
 ündnis die Dekolonialisierung von Straßennamen diskutieren und sich mit 
 den Teilnehmer*innen über Handlungsmöglichkeiten austauschen.\n\nVeranst
 alter: Bündnis Decolonize Bielefeld\n\nVeranstaltungsort: Online via Zoom
 \n\nAnmeldung: decolonize_bielefeld@posteo.de\n\nAlle\, die sich unter dec
 olonize_bielefeld@posteo.de anmelden\, erhalten am Tag vor der Veranstaltu
 ng die Zoom-Einwahldaten.\nInformationen zum Bündnis finden Sie hier: htt
 ps://decolonize-bielefeld.de/\n\nDies ist eine Veranstaltung im Rahmen der
  Bielefelder Aktionswochen gegen Rassismus\, 2022. Weitere Informationen u
 nter: https://interkulturelles-bielefeld.de/dee/aktionswochen-gegen-rassis
 mus/\n\n
ATTACH;FMTTYPE=image/jpeg:https://www.lilabi.net/wp-content/uploads/2022/0
 2/Anti-Rassismus-Aktionswochen-1_verkleinert.png
CATEGORIES:Antiracism Festival
END:VEVENT
BEGIN:VTIMEZONE
TZID:Europe/Berlin
X-LIC-LOCATION:Europe/Berlin
BEGIN:DAYLIGHT
DTSTART:20220327T030000
TZOFFSETFROM:+0100
TZOFFSETTO:+0200
TZNAME:CEST
END:DAYLIGHT
END:VTIMEZONE
END:VCALENDAR