BEGIN:VCALENDAR
VERSION:2.0
PRODID:-//wp-events-plugin.com//7.2.3.1//EN
TZID:Europe/Berlin
X-WR-TIMEZONE:Europe/Berlin
BEGIN:VEVENT
UID:4799@lilabi.net
DTSTART;TZID=Europe/Berlin:20230824T190000
DTEND;TZID=Europe/Berlin:20230824T210000
DTSTAMP:20230729T154340Z
URL:https://www.lilabi.net/events/das-umstrittene-gedaechtnis-die-deutsche
 n-gedenkstaetten-zu-den-verbrechen-des-nationalsozialismus-zwischen-gedenk
 en-geschichtspolitik-und-politischem-bildungsauftrag/
SUMMARY:Das umstrittene Gedächtnis Die deutschen Gedenkstätten zu den Ver
 brechen des Nationalsozialismus zwischen Gedenken\, Geschichtspolitik und 
 politischem Bildungsauftrag
DESCRIPTION:Das umstrittene Gedächtnis\n\nDie deutschen Gedenkstätten zu 
 den Verbrechen des Nationalsozialismus zwischen Gedenken\, Geschichtspolit
 ik und politischem Bildungsauftrag\n\nDr. Elke Gryglewski\, Geschäftsfüh
 rerin und Leiterin der Gedenkstätte Bergen-Belsen\n\n&nbsp\;\n\nAusgangsp
 unkt ihres Vortrages ist die Neuausrichtung der Gedenkstättenlandschaft s
 eit den 90er Jahren. Nach jahrzehntelanger Vernachlässigung einer umfasse
 nden Beforschung der NS-Verbrechen sind erst mit der Ausstellung zu den 
 „Verbrechen der Wehrmacht“ seit 1995 die Täter:innen zunehmend in den
  Blick geraten.\n\nTäter:innen  fand man auf unterschiedlichen Ebenen 
 – in Institutionen\, Verbänden und Administration und - geleitet durch 
 die Ideologie der "Volksgemeinschaft" - auch in großen Teilen der Bevölk
 erung.  Die Neugründung und der Umbau von bereits vorhandenen Gedenkstä
 tten und zahlreiche neue Ausstellungen waren die Folge. Gedenkstätten war
 en und sind historische Orte von hoher emotionaler und symbolischer Bedeut
 ung. Politisches und gesellschaftliches Lernen zur NS-Geschichte kann und 
 sollte in starkem Maße auch hier stattfinden.\n\nAber wie muss eine angem
 essene Geschichts- und Gedenkstättenpädagogik aussehen? Welche instituti
 onellen\, konzeptionellen und nicht zuletzt finanziellen Voraussetzungen m
 üssen für einen so verstandenen Bildungsauftrag vorhanden sein? Was sind
  die Zielgruppen der KZ-Gedenkstätten für diese politisch-historische Bi
 ldung?\n\nDoch es scheint an gesellschaftlichem Bewusstsein und Konsens ü
 ber die Zielsetzungen einer solchen Auseinandersetzung mit unserem "negati
 ven Erbe" zu mangeln. Wie könnte einer Wiederholung von Faschismus und Ba
 rbarei vorgebeugt werden? Erinnern allein wird nicht ausreichen.\n\nDie Er
 fahrungen der Referentin als ehem. Mitarbeiterin der Gedenk- und Bildungss
 tätte Haus der Wannseekonferenz und ihre jetzige Leitungstätigkeit in de
 r Gedenkstätte Bergen-Belsen bilden wichtige Bausteine einer Beurteilung 
 dieser Fragen.\n\nEintritt: frei\n\nVeranstalter: Rosa Luxemburg Club Biel
 efeld in Kooperation mit der VHS Bielefeld und "Blumen für Stukenbrock" -
  mit freundlicher Unterstützung der Rosa Luxemburg Stiftung NRW e.V.
CATEGORIES:Vortrag
LOCATION:VHS Bielefeld\, Murnausaal\, Ravensberger Park 1\, Bielefeld\, Deu
 tschland
X-APPLE-STRUCTURED-LOCATION;VALUE=URI;X-ADDRESS=Ravensberger Park 1\, Biele
 feld\, Deutschland;X-APPLE-RADIUS=100;X-TITLE=VHS Bielefeld\, Murnausaal:g
 eo:0,0
END:VEVENT
BEGIN:VTIMEZONE
TZID:Europe/Berlin
X-LIC-LOCATION:Europe/Berlin
BEGIN:DAYLIGHT
DTSTART:20230326T030000
TZOFFSETFROM:+0100
TZOFFSETTO:+0200
TZNAME:CEST
END:DAYLIGHT
END:VTIMEZONE
END:VCALENDAR