BEGIN:VCALENDAR
VERSION:2.0
PRODID:-//wp-events-plugin.com//7.2.3.1//EN
TZID:Europe/Berlin
X-WR-TIMEZONE:Europe/Berlin
BEGIN:VEVENT
UID:3668@lilabi.net
DTSTART;TZID=Europe/Berlin:20220131T180000
DTEND;TZID=Europe/Berlin:20220131T193000
DTSTAMP:20220202T095150Z
URL:https://www.lilabi.net/events/das-gute-leben-fuer-alle-vortrag-und-dis
 kussion-mit-tobi-rosswog/
SUMMARY:Das Gute Leben für Alle - Vortrag und Diskussion mit Tobi Rosswog
DESCRIPTION:Ihr könnt euch wieder auf zwei Vorträge mit Tobi Rosswog rund
  um das Thema sozialökologischer Transformation freuen.\nNachdem wir letz
 tes Semester schon über nachhaltigen Konsum und geldfreier Leben gesproch
 en haben\, geht es diesmal um „Das Gute Leben für Alle“ und „Radika
 l Liebevollen Akitivismus“. Für nähere Informationen zu den Themen kö
 nnt ihr gern auf Tobis Homepage vorbeischauen: https://tobi-rosswog.de\n
 „Das Gute Leben für Alle“ findet am 31.01.2022 von 18-19:30 Uhr über
  Senfcall (Skype-/Zoom-Alternative) statt.\n„Radikal liebevoller Aktivis
 mus“ dann am 07.02.2022 von 18-19:30 Uhr über denselben Link.\n\nhttps:
 //lecture.senfcall.de/ast-zgk-ysi-vrn\n\nEs ist keine Anmeldung nötig\, s
 chaut einfach rein und bringt all die mit\, die auch Lust drauf haben\, es
  wird im Anschluss bestimmt wieder fleißig diskutiert :)!\n\nWir freuen
  uns auf euch!\nYvonne und Tobi\nKulturreferat\nAStA FH Bielefeld\n
 kultur@fh-asta.de
CATEGORIES:Vortrag
LOCATION:https://lecture.senfcall.de/ast-zgk-ysi-vrn
END:VEVENT
BEGIN:VTIMEZONE
TZID:Europe/Berlin
X-LIC-LOCATION:Europe/Berlin
BEGIN:STANDARD
DTSTART:20211031T020000
TZOFFSETFROM:+0200
TZOFFSETTO:+0100
TZNAME:CET
END:STANDARD
END:VTIMEZONE
END:VCALENDAR