BEGIN:VCALENDAR
VERSION:2.0
PRODID:-//wp-events-plugin.com//7.2.3.1//EN
TZID:Europe/Berlin
X-WR-TIMEZONE:Europe/Berlin
BEGIN:VEVENT
UID:3664@lilabi.net
DTSTART;TZID=Europe/Berlin:20211213T180000
DTEND;TZID=Europe/Berlin:20211213T193000
DTSTAMP:20211211T092854Z
URL:https://www.lilabi.net/events/das-gute-leben-fuer-alle-vortrag-mit-tob
 i-rosswog/
SUMMARY:Das Gute Leben für Alle - Vortrag mit Tobi Rosswog
DESCRIPTION:Kommende Woche finden wieder zwei Vorträge mit Tobi Rosswog ru
 nd um das Thema sozialökologischer Transformation statt.\nNachdem wir let
 ztes Semester schon über nachhaltigen Konsum und geldfreier Leben gesproc
 hen haben\, geht es diesmal um „Das Gute Leben für Alle“ und „Radik
 al Liebevollen Akitivismus“. Für nähere Informationen zu den Themen k
 önnt ihr gern auf Tobis Homepage vorbeischauen: https://tobi-rosswog.de\
 n„Das Gute Leben für Alle“ findet kommenden Montag\, den 13.12.2021 v
 on 18-19:30 Uhr über Senfcall (Skype-/Zoom-Alternative) statt.\n„Radiak
 l liebevoller Aktivismus“ folgt direkt am Mittwoch\, den 15.12.2021 von 
 18-19:30 Uhr über denselben Link.\nDer Link:\nhttps://lecture.senfcall.d
 e/ast-zgk-ysi-vrn\nEs ist keine Anmeldung nötig\, schaut einfach r
 ein!\n\nWir freuen uns auf euch!\nYvonne und Tobi\nKulturreferat\nAS
 tA FH Bielefeld\nkultur@fh-asta.de
CATEGORIES:Diskussion,Online,Sonstiges,Vortrag
LOCATION:https://lecture.senfcall.de/ast-zgk-ysi-vrn
END:VEVENT
BEGIN:VTIMEZONE
TZID:Europe/Berlin
X-LIC-LOCATION:Europe/Berlin
BEGIN:STANDARD
DTSTART:20211031T020000
TZOFFSETFROM:+0200
TZOFFSETTO:+0100
TZNAME:CET
END:STANDARD
END:VTIMEZONE
END:VCALENDAR