BEGIN:VCALENDAR
VERSION:2.0
PRODID:-//wp-events-plugin.com//7.2.3.1//EN
TZID:Europe/Berlin
X-WR-TIMEZONE:Europe/Berlin
BEGIN:VEVENT
UID:3697@lilabi.net
DTSTART;TZID=Europe/Berlin:20220405T200000
DTEND;TZID=Europe/Berlin:20220405T220000
DTSTAMP:20220310T130610Z
URL:https://www.lilabi.net/events/cuba-im-64sten-jahr-der-revolution-zur-a
 ktuellen-situation/
SUMMARY:Cuba im 64sten Jahr der Revolution: Zur aktuellen Situation
DESCRIPTION:Dienstag\, 5. April 2022\, 20 Uhr\, Bürgerwache Siegfriedplatz
 \, Rolandstr. 16\, Bielefeld\n\n Clubtreffen\n\nCuba im 64sten Jahr der R
 evolution: Zur aktuellen Situation \n\nRef.: Horst-Eckart Gross\n\n&nbsp\;
 \n\nHorst-Eckart Gross wird die Diskussion mit Anmerkungen zu folgenden Pu
 nkten einleiten:\n\n- eine persönliche Einschätzung zu den Unruhen im Ju
 li und der geplanten\, groß angekündigten und nicht nennenswert realisie
 rten Demonstrationen im November 2021.\n\n- die Notwendigkeit der weitgehe
 nd eigenständigen Lebensmittelversorgung\, die nach dem Zusammenbruch der
  Sowjetunion trotz vieler Reformversuche bis heute nicht realisiert werden
  konnte. Im Zusammenhang mit der Abschaffung der Devisen-Währung CUC wurd
 en neue Maßnahmen ergriffen\, die Perspektiven für die erfolgreiche Lös
 ung der Versorgungsprobleme eröffnen.\n\n- die momentan herrschende Hyper
 inflation\, ihre Hintergründe und gesellschaftlichen Auswirkungen.\n\n&nb
 sp\;\n\nDie Clubtreffen des Rosa-Luxemburg-Clubs Bielefeld sind dazu gedac
 ht\, einen Einstieg in die Diskussion eines aktuellen Themas zu bieten. Ei
 n Ziel soll dabei unter anderem sein\, die Schwerpunkte und Möglichkeiten
  von größeren öffentlichen Treffen und/oder Veranstaltungen zu besprech
 en.\n\nDieses Clubtreffen findet in Präsenz  unter den augenblicklichen 
 Pandemiebedingungen für Bildungsveranstaltungen statt\, den 3G-Regeln (ge
 impft\, genesen\, getestet). Bitte Nachweis nicht vergessen. Eine Anmeldun
 g ist nicht erforderlich.\n\nMit freundlicher Unterstützung der Rosa-Luxe
 mburg-Stiftung NRW
CATEGORIES:Diskussion
LOCATION:Bürger*innenwache Siegfriedplatz\, Rolandstr. 16\, 33615 Bielefel
 d\, Deutschland
X-APPLE-STRUCTURED-LOCATION;VALUE=URI;X-ADDRESS=Rolandstr. 16\, 33615 Biele
 feld\, Deutschland;X-APPLE-RADIUS=100;X-TITLE=Bürger*innenwache Siegfried
 platz:geo:0,0
END:VEVENT
BEGIN:VTIMEZONE
TZID:Europe/Berlin
X-LIC-LOCATION:Europe/Berlin
BEGIN:DAYLIGHT
DTSTART:20220327T030000
TZOFFSETFROM:+0100
TZOFFSETTO:+0200
TZNAME:CEST
END:DAYLIGHT
END:VTIMEZONE
END:VCALENDAR