BEGIN:VCALENDAR
VERSION:2.0
PRODID:-//wp-events-plugin.com//7.2.3.1//EN
TZID:Europe/Berlin
X-WR-TIMEZONE:Europe/Berlin
BEGIN:VEVENT
UID:4610@lilabi.net
DTSTART;TZID=Europe/Berlin:20230125T180000
DTEND;TZID=Europe/Berlin:20230126T210000
DTSTAMP:20230123T130314Z
URL:https://www.lilabi.net/events/crypto-seminar-workshop-zur-digitalen-se
 lbstverteidigung/
SUMMARY:Crypto-Seminar: Workshop zur digitalen Selbstverteidigung
DESCRIPTION:\n\n\n\nDu willst wissen\, warum Datenschutz uns alle etwas ang
 eht? Du möchtest praktisch erlernen\, wie man im digitalen Alltag weniger
  Spuren hinterlässt und die eigene Kommunikation vor den neugierigen Blic
 ken Dritter schützen kann? Dann komm am 25. und 26. Januar ab 18 Uhr (s.t
 .) zum Crypto-Seminar der Digitalcourage-Hochschulgruppe an der Universit
 ät Bielefeld in Raum UHG U2-200.\n\n\n\nVeranstaltungsdetails\n\n 	Wann? 
 25./26. Januar 2023 (Mi/Do)\, 18:00–21:00 Uhr\n 	Wo? UHG Raum U2-200\, U
 niversität Bielefeld\, Universitätsstraße 25\, 33615 Bielefeld\n 	Mitbr
 ingen: Fragen\, Freunde und den eigenen Laptop bzw. das eigene Smartphone\
 n\n\n\nDas Programm\nBeide Tage bestehen aus zwei Themenblöcken von je 90
  Minuten zu einem Thema aus der Digitalen Selbstverteidigung. Ein Block st
 artet mit ca. 30 Minuten Vortrag. Dann ist viel Zeit für Fragen und für 
 die praktische Umsetzung auf dem eigenen Gerät. Zwischen den Blöcken gib
 t es eine kurze Pause.\nMittwoch\, 25. Januar:\nPasswörter und Dateiversc
 hlüsselung\nNicht selten steht und fällt der Schutz persönlicher Daten 
 mit einem Passwort. Wir zeigen\, wie sichere Passwörter gefunden werden u
 nd wie ein Passwortmanager Überblick über die vielen Passwörter schafft
 . Außerdem erklären wir das Verschlüsseln von einzelnen Dateien\, Ordne
 rn oder ganzen Datenträgern\, damit die eigenen Daten auch im Fall eines 
 Hardware-Diebstahls nicht in fremde Hände geraten.\nSpurenarmes und anony
 mes Surfen\nWir erklären\, wie der eigene Webbrowser u.a. gegen allgegenw
 ärtige Werbung und Trackingmaßnahmen geschützt werden kann. Außerdem z
 eigen wir das Tor-Netzwerk\, das eine anonyme Nutzung des World Wide Web e
 rmöglicht.\nDonnerstag\, 26. Januar:\nE-Mail-Verschlüsselung\nNach wie v
 or sind E-Mails trotz vieler Alternativen im Kommunikationsalltag nicht au
 s dem digitalen Alltag wegzudenken. Wer auf diesem Kanal privat und sicher
  kommunizieren möchte\, kann hier lernen\, wie E-Mail-Verschlüsselung fu
 nktioniert und einzurichten ist.\nDatenschutz auf Smartphones\nUnsere Smar
 tphones wissen häufig mehr über uns als engste Freunde und Familie. Wie 
 ihr das eigene Telefon den Blicken von Google\, Apple und Co. möglichst w
 eitgehend entzieht und welche datenschutzfreundliche App-Alternativen empf
 ehlenswert sind\, erklären wir in diesem Vortrag.\n\n\n\nHinweise\nDie Ve
 ranstaltung bildet den Abschluss des Seminars „Daten in Studium und Allt
 ag: Von der Datenbeschaffung zur Digitalen Selbstverteidigung“.\n\nBitte
  bringt ggf. eure Laptops und Smartphones mit! Die Teilnahme ist kostenlos
 \; eine Anmeldung ist nicht erforderlich. Beide Tage des Seminars können 
 auch einzeln besucht werden. Fragen und Hinweise könnt ihr uns jederzeit 
 per E-Mail an digitalcourage.hsg@uni-bielefeld.de senden.\n\n\n\n
ATTACH;FMTTYPE=image/jpeg:https://www.lilabi.net/wp-content/uploads/2023/0
 1/Cryptoseminar-Uni-2023-01_lilabi.png
CATEGORIES:DIY,Workshop
LOCATION:Universität Bielefeld\, Raum U2-200\, Universitätsstraße 25\, B
 ielefeld\, Deutschland
X-APPLE-STRUCTURED-LOCATION;VALUE=URI;X-ADDRESS=Universitätsstraße 25\, B
 ielefeld\, Deutschland;X-APPLE-RADIUS=100;X-TITLE=Universität Bielefeld\,
  Raum U2-200:geo:0,0
END:VEVENT
BEGIN:VTIMEZONE
TZID:Europe/Berlin
X-LIC-LOCATION:Europe/Berlin
BEGIN:STANDARD
DTSTART:20221030T020000
TZOFFSETFROM:+0200
TZOFFSETTO:+0100
TZNAME:CET
END:STANDARD
END:VTIMEZONE
END:VCALENDAR