BEGIN:VCALENDAR
VERSION:2.0
PRODID:-//wp-events-plugin.com//7.2.3.1//EN
TZID:Europe/Berlin
X-WR-TIMEZONE:Europe/Berlin
BEGIN:VEVENT
UID:3736@lilabi.net
DTSTART;TZID=Europe/Berlin:20220617T180000
DTEND;TZID=Europe/Berlin:20220617T200000
DTSTAMP:20220530T135757Z
URL:https://www.lilabi.net/events/community-building-mit-fokus-auf-sexarbe
 it-gemeinsam-gegen-das-stigma-mit-hydra-e-v/
SUMMARY:Community Building mit Fokus  auf Sexarbeit - Gemeinsam gegen das S
 tigma/mit Hydra e.V.
DESCRIPTION:Ankündigungstext:\nIn diesem Workshop wollen wir uns damit bes
 chäftigen\, wie politische  Bewegungen und Community Building aussehen k
 ann\, die Sexarbeiter*innen  und ihre Lebenserfahrung mit einschließen. 
 Der Bereich der Sexarbeit  ist sehr divers und auch hier gibt es Hierarch
 ien\, die bedacht werden  müssen. Wir werden uns mit den strukturellen H
 ürden beschäftigen\,  denen Sexarbeiter*innen ausgesetzt sind und auch 
 verschiedene Prozesse  des Community Building innerhalb der Sexarbeit ans
 chauen\, basierend  auf der Erfahrung des Hydra Café in Berlin. \n\nzu 
 hydra e.V.:\nBei Hydra arbeiten und engagieren sich vielfältige Menschen 
 - manche  sind oder waren selbst in der Sexarbeit tätig\, manche sind  
 Sozialarbeiterinnen oder Beraterinnen\, manche unterstützen unsere Arbeit
   nur manchmal oder finanziell und manche arbeiten hauptberuflich in unse
 ren Projekten: in der Beratungsstelle oder im HydraCafe.\nZusammen setzen 
 wir uns seit 1980 für die rechtliche und soziale Gleichstellung  von Sex
 arbeiter*innen mit anderen Erwerbstätigen ein\, engagieren uns für  die
  Verbesserung der Lebensbedingungen von Prostituierten und kämpfen  gege
 n ihre Diskriminierung und gesellschaftliche Stigmatisierung.\n\nDer grün
 e Schlangen-Highheel ist als Symbol von HYDRA e.V. weit über  Berlin hin
 aus bekannt. Der Verein HYDRA e. V. wurde 1980 als erste  autonome Hureno
 rganisation Deutschlands in Berlin von sozial engagierten  Frauen aus unt
 erschiedlichen Berufssparten\, u.a. der Prostitution\,  gegründet. Der K
 ampf gegen das Hurenstigma – die gesellschaftliche  Doppelmoral im Umga
 ng mit Prostituierten – und gegen die Rechtlosigkeit  von Prostituierte
 n als Erwerbstätigen war überfällig. Die  HYDRA-Gründerinnen sahen si
 ch mit diesen Anliegen einerseits im Kontext  der damaligen Frauenbewegun
 g und knüpften andererseits an die  französische Hurenbewegung an\, die
  1975 mit einem Prostituiertenstreik  in Lyon auf sich aufmerksam gemacht
  hatte. An diesen Streik erinnert  alljährlich der „Internationale Hur
 entag“ am 2. Juni.\n\nBarrieren:\n\nCoronabedingt ist es eine Voraussetz
 ung für die Teilnahme\, dass Menschen sich schnelltesten\, bevor sie in d
 ie Veranstaltungen kommen. \nBitte meldet euch außerdem vorher an. Das k
 önnt ihr über die folgende Mailadresse machen: politische-bildung@asta-b
 ielefeld.de\nDie Veranstaltungen sind in ihrer Teilnehmer*innenzahl begren
 zt.\nZu den Workshops sind alle eingeladen.Sie finden in deutscher Lautspr
 ache statt.\nDie Wege zu den Räumen sind barrierearm. Tatsächlich sind d
 ie Nummerierungen und Wege aber schwer nachvollziehbar. Sagt gern Bescheid
 \, wenn ihr irgendwo abgeholt werden wollt.\n
CATEGORIES:Vortrag
LOCATION:Uni Bielefeld\, X-E1-201\, Universitätsstraße 25\, Bielefeld\, D
 eutschland
X-APPLE-STRUCTURED-LOCATION;VALUE=URI;X-ADDRESS=Universitätsstraße 25\, B
 ielefeld\, Deutschland;X-APPLE-RADIUS=100;X-TITLE=Uni Bielefeld\, X-E1-201
 :geo:0,0
END:VEVENT
BEGIN:VTIMEZONE
TZID:Europe/Berlin
X-LIC-LOCATION:Europe/Berlin
BEGIN:DAYLIGHT
DTSTART:20220327T030000
TZOFFSETFROM:+0100
TZOFFSETTO:+0200
TZNAME:CEST
END:DAYLIGHT
END:VTIMEZONE
END:VCALENDAR