BEGIN:VCALENDAR
VERSION:2.0
PRODID:-//wp-events-plugin.com//7.2.3.1//EN
TZID:Europe/Berlin
X-WR-TIMEZONE:Europe/Berlin
BEGIN:VEVENT
UID:2692@lilabi.net
DTSTART;TZID=Europe/Berlin:20190902T160000
DTEND;TZID=Europe/Berlin:20190902T203000
DTSTAMP:20190829T002144Z
URL:https://www.lilabi.net/events/cafetopia-im-september/
SUMMARY:Cafétopia im September
DESCRIPTION:Bielefeld geldfrei-er-leben und Foodsharing Bielefeld e.V. lade
 n jeden 1. Montag im Monat zum veganen Kochen aus geretteten Lebensmitteln
  ins IBZ ein.\n\nAb 16h: Gemeinsames Schnippeln - komm gern rum und mach m
 it\nAb 18h: Gemeinsames Essen\n\nGestalten wir einen Treffpunkt für wande
 lfreudige Menschen\, wo es die Möglichkeit gibt: Gemeinsam Vorhandenes si
 nnvoll zu nutzen\, Projekte zu entwickeln\, Ideen zu realisieren und Utopi
 en zu leben.\n------------------------------------------------------------
 ------------------------------\nOhne Anmeldung\nKomm einfach vorbei (gern 
 bereits ab 16h zum gemeinsamen Schnippeln) und verbring eine schöne Zeit 
 mit uns.Bring gern einen Beitrag zum veganen Schlemmerbuffet mit.\n\nTausc
 hlogikfrei\nWir teilen Talente und Vorhandenes bedingungslos – die Teiln
 ahme an Cafétopia ist ebenfalls bedingungslos und frei von Tauschlogik.\n
 --------------------------------------------------------------------------
 ----------------\nWenn ihr mit eurer Gruppe/Initiative/… dabei sein mög
 t\, braucht ihr Lust auf Kochen und Schnacken – den Rest organisieren wi
 r. Schreibt uns super gern an\, wenn ihr Lust habt einen Kochtermin zu üb
 ernehmen.\n\n&nbsp\;\n\nHier geht's zur FB-Veranstaltung: https://www.face
 book.com/events/698567003994634/
CATEGORIES:Küfa
LOCATION:IBZ Bielefeld\, Teutoburger Straße 106\, Bielefeld\, Deutschland
X-APPLE-STRUCTURED-LOCATION;VALUE=URI;X-ADDRESS=Teutoburger Straße 106\, B
 ielefeld\, Deutschland;X-APPLE-RADIUS=100;X-TITLE=IBZ Bielefeld:geo:0,0
END:VEVENT
BEGIN:VTIMEZONE
TZID:Europe/Berlin
X-LIC-LOCATION:Europe/Berlin
BEGIN:DAYLIGHT
DTSTART:20190331T030000
TZOFFSETFROM:+0100
TZOFFSETTO:+0200
TZNAME:CEST
END:DAYLIGHT
END:VTIMEZONE
END:VCALENDAR