BEGIN:VCALENDAR
VERSION:2.0
PRODID:-//wp-events-plugin.com//7.2.3.1//EN
TZID:Europe/Berlin
X-WR-TIMEZONE:Europe/Berlin
BEGIN:VEVENT
UID:5596@lilabi.net
DTSTART;TZID=Europe/Berlin:20240324T110000
DTEND;TZID=Europe/Berlin:20240324T140000
DTSTAMP:20240318T140004Z
URL:https://www.lilabi.net/events/buecher-matinee/
SUMMARY:Bücher - Matinée
DESCRIPTION:Bücher - Matinée\n\nEin ganz besonderen Event im Stadtteilzen
 trum Bürgerwache. \n\nPünktlich zur Leipziger Buchmesse gibt es eine Bü
 cher - Matinée mit Buchempfehlungen von Astrid Henning (Buchhändlerin un
 d kenntnisreiche Buchempfehlerin). Die Bücher-Matinée findet am Sonntag 
 im Stadtteilzentrum Bürgerwache am Siegfriedplatz statt. \n\nWir garantie
 ren einen wunderbaren\, lebendigen und anregenden Sonntagvormittag mit tol
 len Büchertipps.\n\n„Buchtipp-Matinée“ mit Astrid Henning\n\n· Sonn
 tag\, 24. März 2024\, 11.00 Uhr\n\n· Saal (Raum 007\, EG.)\n\n· Bürger
 wache am Siegfriedplatz\, Rolandstr. 16\, 33615 Bielefeld\n\nWeitere Infos
  unter: \n\nhttps://buchtipp-bielefeld.buchkatalog.de/BuchtippEvents\n\nun
 d Kartenvorverkauf - Tickets (10\,- Euro p.P.) - über die Buchhandlung Bu
 chtipp. \n\n\nEine Veranstaltung der Buchhandlung Buchtipp\nin Kooperation
  mit der Bürgerinitiative Bürgerwache e.V. \n\nWir freuen uns auf einen 
 literarischen Sonntagvormittag mit Ihnen!\n\nFoto Astrid Henning / © Hans
  Jürgen Wege
ATTACH;FMTTYPE=image/jpeg:https://www.lilabi.net/wp-content/uploads/2024/0
 3/Astrid-Henning-KLEIN©-Foto-Hans-Juergen-Wege.jpg
CATEGORIES:Lesung,Sonstiges,Vortrag
LOCATION:Bürger*innenwache Siegfriedplatz\, Rolandstr. 16\, 33615 Bielefel
 d\, Deutschland
X-APPLE-STRUCTURED-LOCATION;VALUE=URI;X-ADDRESS=Rolandstr. 16\, 33615 Biele
 feld\, Deutschland;X-APPLE-RADIUS=100;X-TITLE=Bürger*innenwache Siegfried
 platz:geo:0,0
END:VEVENT
BEGIN:VTIMEZONE
TZID:Europe/Berlin
X-LIC-LOCATION:Europe/Berlin
BEGIN:STANDARD
DTSTART:20231029T020000
TZOFFSETFROM:+0200
TZOFFSETTO:+0100
TZNAME:CET
END:STANDARD
END:VTIMEZONE
END:VCALENDAR