BEGIN:VCALENDAR
VERSION:2.0
PRODID:-//wp-events-plugin.com//7.2.3.1//EN
TZID:Europe/Berlin
X-WR-TIMEZONE:Europe/Berlin
BEGIN:VEVENT
UID:4446@lilabi.net
DTSTART;TZID=Europe/Berlin:20221105T173000
DTEND;TZID=Europe/Berlin:20221105T173000
DTSTAMP:20221020T111338Z
URL:https://www.lilabi.net/events/buchvorstellunggespraech-piss-on-patriar
 chy-eine-auseinandersetzung-mit-der-sexualisierten-gewalt-auf-dem-festival
 -monis-rache/
SUMMARY:Buchvorstellung&amp\;Gespräch - Piss on Patriarchy: Eine Auseinand
 ersetzung mit der sexualisierten Gewalt auf dem Festival Monis Rache
DESCRIPTION:Buchvorstellung&amp\;Gespräch\nPiss on Patriarchy: Eine Ausein
 andersetzung mit der sexualisierten Gewalt auf dem Festival Monis Rache\n\
 nIm Januar 2020 wurde bekannt\, dass ein Mitarbeiter auf dem linken Festiv
 al Monis Rache über Jahre hinweg heimlich Videoaufnahmen von weiblich gel
 esenen Personen in Dixi-Klos gemacht hat. Der Täter verkaufte die Videos 
 anschließend auf Pornoplattformen. Die Gruppe mora hat das Buch als Reakt
 ion auf die nicht-kossensuellen Videoaufnahmen geschrieben. Aus der Perspe
 ktive linker FLINTA* und aus eigener Betroffenheit dokumentieren\, komment
 ieren und analysieren die Autor*innen die daraus folgenden Fragen\, Emotio
 nen\, Aktionen und feministischen Kämpfe. Wie steht es eigentlich um den 
 Umgang mit sexualisierter Gewalt in der Linken - gerade wenn sie aus den e
 igenen Reihen kommt? Zwei Jahre lang hat die feministische Gruppe mora die
  Reaktionen aus der linken Szene beobachtet. Dieses Buch archiviert im Sin
 ne Feministischer Geschichtsschreibung die Perspektiven der Autor*innen un
 d anderer Betroffener\, um ihre Erfahrungen nicht in Vergessenheit geraten
  zu lassen. Neben eigenen Analysen zu Themen wie Voyeurismus\, transformat
 iver Gerechtigkeit und kritischer Männlichkeit zeichnen Betroffenenstatem
 ents\, Aussagen des Täters und Zeitungsartikel ein umfassendes Bild des F
 alls.\n\n05.11.22 17:30 AJZ Kino\nOffen für alle Geschlechter\nBitte komm
 t (selbst)getestet und tragt während der Lesung Maske!\n\n- wir haben Mas
 ken und Tests da -
ATTACH;FMTTYPE=image/jpeg:https://www.lilabi.net/wp-content/uploads/2022/1
 0/Piss-on-Patriarchy-Share-Pic-Klein.jpeg
CATEGORIES:Buchvorstellung,Diskussion,Lesung
LOCATION:AJZ Bielefeld\, Heeper Str. 132\, 33607 Bielefeld\, Deutschland
X-APPLE-STRUCTURED-LOCATION;VALUE=URI;X-ADDRESS=Heeper Str. 132\, 33607 Bie
 lefeld\, Deutschland;X-APPLE-RADIUS=100;X-TITLE=AJZ Bielefeld:geo:0,0
END:VEVENT
BEGIN:VTIMEZONE
TZID:Europe/Berlin
X-LIC-LOCATION:Europe/Berlin
BEGIN:STANDARD
DTSTART:20221030T020000
TZOFFSETFROM:+0200
TZOFFSETTO:+0100
TZNAME:CET
END:STANDARD
END:VTIMEZONE
END:VCALENDAR