BEGIN:VCALENDAR
VERSION:2.0
PRODID:-//wp-events-plugin.com//7.2.3.1//EN
TZID:Europe/Berlin
X-WR-TIMEZONE:Europe/Berlin
BEGIN:VEVENT
UID:4950@lilabi.net
DTSTART;TZID=Europe/Berlin:20240226T183000
DTEND;TZID=Europe/Berlin:20240226T203000
DTSTAMP:20240215T122639Z
URL:https://www.lilabi.net/events/buchvorstellung-walter-rodney-wie-europa
 -afrika-unterentwickelte/
SUMMARY:Buchvorstellung Walter Rodney - Wie Europa Afrika Unterentwickelte
DESCRIPTION:Die NRW Buchtour des Manifest-Verlag\, zur Neuauflage von Walte
 r Rodneys Klassiker "Wie Europa Afrika unterentwickelte"\, beginnt am 26. 
 Februar in Bielefeld!\n\nNach 50 Jahren erschien Walter Rodneys Klassiker 
 "Wie Europa Afrika Unterentwickelte" am 16. November in neuer deutscher Ü
 bersetzung.\n\nWie Europa Afrika unterentwickelte ist ein ambitioniertes M
 eisterwerk der politischen Ökonomie\, das die Auswirkungen der Sklaverei 
 und des Kolonialismus auf die Geschichte des internationalen Kapitalismus 
 beschreibt. In diesem Klassiker legt Rodney unbeirrbar dar\, dass die „F
 ehlentwicklung“ Afrikas keine natürliche geographische Eigenheit\, sond
 ern das direkte Resultat der imperialistischen Ausbeutung des Kontinents i
 st\, die bis heute anhält.\n\nDurch seine akribische Recherche bleibt Wie
  Europa Afrika unterentwickelte eine nach wie vor relevante Studie zur sog
 enannten „Großen Kluft“ und eine zuverlässige Quelle\, wenn es darum
  geht\, ein Verständnis für die Verschärfung der globalen Ungleichheit 
 in heutiger Zeit zu entwickeln.\n\nGleichzeitig räumt Rodney mit dem weit
  verbreiteten Irrtum auf\, dass die ökonomische Ausbeutung des afrikanisc
 hen Kontinents auf rassistischen Einstellungen von Herrscher*innen der ent
 wickelten kapitalistischen Länder beruht. Viel mehr bringt er den Leser*i
 nnen die Methode nahe\, Unterdrückung als etwas zu verstehen\, das auf Au
 sbeutung beruht und nicht umgekehrt. Für das Verständnis von Rassismus h
 eute und seine Funktion im Kapitalismus ist das eine grundlegende Vorausse
 tzung.\n\nDas Buch werden Euch Bafta Sarbo und René Arnsburg (@renearnsbu
 rg) vorstellen\, moderiert wird die Veranstaltung von Arthur Gubar (Sozial
 istische Organisation Solidarität).\n\nDie Buchvorstellung beginnt um 18:
 30 Uhr im Hörsaal H2 in der Uni Bielefeld (Universitätsstraße 25\, 3361
 5 Bielefeld). Der Eintritt ist frei und es wird die Möglichkeit geben\, v
 or Ort das Buch zu erwerben!
ATTACH;FMTTYPE=image/jpeg:https://www.lilabi.net/wp-content/uploads/2024/0
 2/Titelbild-Buchvorstellung.jpg
CATEGORIES:Buchvorstellung,Diskussion
LOCATION:Universität Bielefeld H2\, Universitätsstraße 25\, Bielefeld\, 
 Deutschland
X-APPLE-STRUCTURED-LOCATION;VALUE=URI;X-ADDRESS=Universitätsstraße 25\, B
 ielefeld\, Deutschland;X-APPLE-RADIUS=100;X-TITLE=Universität Bielefeld H
 2:geo:0,0
END:VEVENT
BEGIN:VTIMEZONE
TZID:Europe/Berlin
X-LIC-LOCATION:Europe/Berlin
BEGIN:STANDARD
DTSTART:20231029T020000
TZOFFSETFROM:+0200
TZOFFSETTO:+0100
TZNAME:CET
END:STANDARD
END:VTIMEZONE
END:VCALENDAR