BEGIN:VCALENDAR
VERSION:2.0
PRODID:-//wp-events-plugin.com//7.2.3.1//EN
TZID:Europe/Berlin
X-WR-TIMEZONE:Europe/Berlin
BEGIN:VEVENT
UID:4694@lilabi.net
DTSTART;TZID=Europe/Berlin:20230318T150000
DTEND;TZID=Europe/Berlin:20230318T190000
DTSTAMP:20230313T135818Z
URL:https://www.lilabi.net/events/briefe-schreiben-zum-tag-fuer-die-freihe
 it-politisch-gefangener-menschen/
SUMMARY:Briefe schreiben zum Tag für die Freiheit (politisch) gefangener M
 enschen
DESCRIPTION:Anlässlich des Tages für die Freiheit aller (politischen) Gef
 angenen möchten wir am 18. März von 15 bis 19 Uhr im Infoladen Anschlag 
 Briefe an Gefangene schreiben.\nWir freuen uns über viele\, die mit uns b
 ei Chai und Keksen die ein oder andere Nachricht an Menschen im Knast form
 ulieren.\nAuch wenn ihr nicht genau wisst\, wie das läuft oder was ihr sc
 hreiben könnt\, kommt gerne trotzdem und wir überlegen uns gemeinsam etw
 as. Und falls ihr euch fragt\, warum das politische in Klammern steht\, da
 nn kommt sehr gern vorbei und wir sprechen darüber!\n- migrAttack
LOCATION:AJZ Bielefeld\, Heeper Str. 132\, 33607 Bielefeld\, Deutschland
X-APPLE-STRUCTURED-LOCATION;VALUE=URI;X-ADDRESS=Heeper Str. 132\, 33607 Bie
 lefeld\, Deutschland;X-APPLE-RADIUS=100;X-TITLE=AJZ Bielefeld:geo:0,0
END:VEVENT
BEGIN:VTIMEZONE
TZID:Europe/Berlin
X-LIC-LOCATION:Europe/Berlin
BEGIN:STANDARD
DTSTART:20221030T020000
TZOFFSETFROM:+0200
TZOFFSETTO:+0100
TZNAME:CET
END:STANDARD
END:VTIMEZONE
END:VCALENDAR