BEGIN:VCALENDAR
VERSION:2.0
PRODID:-//wp-events-plugin.com//7.2.3.1//EN
TZID:Europe/Berlin
X-WR-TIMEZONE:Europe/Berlin
BEGIN:VEVENT
UID:6517@lilabi.net
DTSTART;TZID=Europe/Berlin:20251216T183000
DTEND;TZID=Europe/Berlin:20251216T203000
DTSTAMP:20251215T155645Z
URL:https://www.lilabi.net/events/boat-ein-jahr-solidaritaet-briefe-an-luc
 a/
SUMMARY:BOAT- Ein Jahr Solidarität: Briefe an Luca
DESCRIPTION:Am Dienstag\, den 16.11\, sticht das B.O.A.T.\, das Bielefelder
  Offene Antifaschistische Treffen wieder in See!\n\nDieses Mal geht es um 
 Luca.\nLuca sitzt seit Mitte Januar in der JVA Bielefeld. Ihr wird vorgewo
 rfen\, sich in Budapest Faschist*innen entgegengestellt zu haben. Solange 
 sie hier ist\, wollen wir ihr zeigen\, dass sie nicht alleine ist. Wir ste
 hen solidarisch hinter ihr.\n\nWir starten mit einem kleinen Vortrag. Dann
  möchten wir gemeinsam Briefe an Luca schreiben. Material\, um Briefe zu 
 schreiben\, ist da. Ihr könnt aber auch gerne eigenes Papier\, Stifte o.
 ä. mitbringen\n\nAlso\, kommt gerne vorbei\, egal ob ihr schon politisch 
 aktiv seid\, oder einen Ort sucht\, um euch über antifaschistische Arbeit
  auszutauschen!\n\nWir treffen uns um 18:30 Uhr in den Räumen des Kulturp
 act e.V. in der Herforder Str. Nr. 8. Der Raum ist direkt über der underg
 round factory und kann durch die Arcade betreten werden.\nDer Raum ist ein
 geschränkt barrierefrei und nur durch eine Treppe zu erreichen.\n\nEingel
 aden sind alle\, die Interesse an antifaschistischer Arbeit und Themen hab
 en. Nicht eingeladen sind Faschos und Mitglieder von Repressionsbehörden\
 , unabhängig davon\, ob sie in privater oder beruflicher Eigenschaft da s
 ind. Unsere Zielgruppe sind Menschen unter 35 Jahren.
ATTACH;FMTTYPE=image/jpeg:https://www.lilabi.net/wp-content/uploads/2025/1
 2/1000023805.jpg
CATEGORIES:Austausch/Vernetzung,Soli,Vortrag
LOCATION:Kulturpact Arcade\, Herforder Straße 8\, Bielefeld\, NRW\, 33602\
 , Deutschland
X-APPLE-STRUCTURED-LOCATION;VALUE=URI;X-ADDRESS=Herforder Straße 8\, Biele
 feld\, NRW\, 33602\, Deutschland;X-APPLE-RADIUS=100;X-TITLE=Kulturpact Arc
 ade:geo:0,0
END:VEVENT
BEGIN:VTIMEZONE
TZID:Europe/Berlin
X-LIC-LOCATION:Europe/Berlin
BEGIN:STANDARD
DTSTART:20251026T020000
TZOFFSETFROM:+0200
TZOFFSETTO:+0100
TZNAME:CET
END:STANDARD
END:VTIMEZONE
END:VCALENDAR