BEGIN:VCALENDAR
VERSION:2.0
PRODID:-//wp-events-plugin.com//7.2.3.1//EN
TZID:Europe/Berlin
X-WR-TIMEZONE:Europe/Berlin
BEGIN:VEVENT
UID:5587@lilabi.net
DTSTART;TZID=Europe/Berlin:20240304T200000
DTEND;TZID=Europe/Berlin:20240304T230000
DTSTAMP:20240304T125308Z
URL:https://www.lilabi.net/events/bilke-schnibbe-der-arbeiter-versteht-das
 -nicht-wie-linke-den-rechten-kulturkampf-bedienen/
SUMMARY:Bilke Schnibbe: Der Arbeiter versteht das nicht - Wie Linke den rec
 hten Kulturkampf bedienen
DESCRIPTION:Der Arbeiter versteht das nicht – wie Linke den rechten Kultu
 rkampf bedienen\n\nDie Mobilisierung gegen trans und queere Personen ist z
 u einer der mächtigsten Waffen im faschistischen Kulturkampf geworden. Au
 ch in innerlinken Streitigkeiten finden sich queerfeindliche Stereotype\, 
 die am Ende die Mobilisierung nach rechts fördern. Dieser Vortrag geht de
 r Frage nach\, welche Parallelen es zwischen rechter und linker Queerfeind
 lichkeit gibt und wieso diese am Ende uns allen auf die Füße fällt.\n\n
 Bilke Schnibbe arbeitet als freier Journalist und als psychologischer Psyc
 hotherapeut in eigener Praxis in Bremen.\n\n04.03.24 - Los geht es wie imm
 er um 20 Uhr in der Extra Blues Bar\n\nEine Veranstaltung vom fem*ref Biel
 efeld im Rahmen des Roten Montags.
CATEGORIES:Diskussion,Kneipe,Vortrag
LOCATION:Extra Blues Bar\, Kreuzstraße 6\, 33602 Bielefeld\, Deutschland
X-APPLE-STRUCTURED-LOCATION;VALUE=URI;X-ADDRESS=Kreuzstraße 6\, 33602 Biel
 efeld\, Deutschland;X-APPLE-RADIUS=100;X-TITLE=Extra Blues Bar:geo:0,0
END:VEVENT
BEGIN:VTIMEZONE
TZID:Europe/Berlin
X-LIC-LOCATION:Europe/Berlin
BEGIN:STANDARD
DTSTART:20231029T020000
TZOFFSETFROM:+0200
TZOFFSETTO:+0100
TZNAME:CET
END:STANDARD
END:VTIMEZONE
END:VCALENDAR